BEGIN:VCALENDAR
VERSION:2.0
PRODID:-//Xenia Concerts - ECPv6.15.20//NONSGML v1.0//EN
CALSCALE:GREGORIAN
METHOD:PUBLISH
X-ORIGINAL-URL:https://xeniaconcerts.com
X-WR-CALDESC:Events for Xenia Concerts
REFRESH-INTERVAL;VALUE=DURATION:PT1H
X-Robots-Tag:noindex
X-PUBLISHED-TTL:PT1H
BEGIN:VTIMEZONE
TZID:America/Toronto
BEGIN:DAYLIGHT
TZOFFSETFROM:-0500
TZOFFSETTO:-0400
TZNAME:EDT
DTSTART:20250309T070000
END:DAYLIGHT
BEGIN:STANDARD
TZOFFSETFROM:-0400
TZOFFSETTO:-0500
TZNAME:EST
DTSTART:20251102T060000
END:STANDARD
BEGIN:DAYLIGHT
TZOFFSETFROM:-0500
TZOFFSETTO:-0400
TZNAME:EDT
DTSTART:20260308T070000
END:DAYLIGHT
BEGIN:STANDARD
TZOFFSETFROM:-0400
TZOFFSETTO:-0500
TZNAME:EST
DTSTART:20261101T060000
END:STANDARD
BEGIN:DAYLIGHT
TZOFFSETFROM:-0500
TZOFFSETTO:-0400
TZNAME:EDT
DTSTART:20270314T070000
END:DAYLIGHT
BEGIN:STANDARD
TZOFFSETFROM:-0400
TZOFFSETTO:-0500
TZNAME:EST
DTSTART:20271107T060000
END:STANDARD
END:VTIMEZONE
BEGIN:VEVENT
DTSTART;TZID=America/Toronto:20260124T110000
DTEND;TZID=America/Toronto:20260124T120000
DTSTAMP:20260420T102119
CREATED:20250602T080052Z
LAST-MODIFIED:20260107T203631Z
UID:6448-1769252400-1769256000@xeniaconcerts.com
SUMMARY:January 24\, 2026 - Adaptive Concert with Pratibha Arts at Flato Markham Theatre
DESCRIPTION:Book Tickets\nConcert Description\n\nJoin us at Flato Markham Theatre to experience the classical arts of Kathak dance and Tabla drumming originating from North India! Featuring interactive storytelling through Indian classical hand gestures known as mudras\, the performance will display rhythmic complexity and dynamic movement language. \nThis adaptive music and dance performance is being presented in a family-friendly\, inclusive environment that embraces neurodiversity and disability. All ages and all expressions are welcome\, so bring the whole family! The performance will last one hour. See below for a complete list of accessibility features. \n\nFeatured Artists\nPratibha Arts \nBageshree Vaze\, dancer and vocalist \nRaghav Monga\, dancer \nVineet Vyas\, tabla \nGandhaar Amin\, bansuri \nDaksh Raj Sharma\, harmonium \nDate and Time\nSaturday\, January 24\, 2026 at 11:00 AM \nLocation\nFlato Markham Theatre \n171 Town Centre Blvd.\, Markham \nDOWNLOAD THE VENUE GUIDE \nTicket Policy\nTickets are available for $5 plus taxes and fees. To eliminate financial barriers\, we will refund your tickets when you attend the event. If you wish to donate your tickets\, please let us know when you check in. \nDonations\nXenia Concerts is a registered charity and we gratefully accept additional donations. If you don’t want a tax receipt\, please select the “donation” option at checkout on Eventbrite. To make a charitable donation and receive a tax receipt\, please visit our website. \nConcert Features\n\nAll expressions welcome! Feel free to make noise\, get up\, or stim!\nVenue and gender-neutral washrooms accessible to wheelchair users\nVenue Guide\nAccessible e-programs sent before event\nSensory supports\, including noise-cancelling earmuffs\, weighted pillows\, balance pillows\, and fidgets (please bring your own if you can)\nFlexible seating and a separate area for breaks\nStretch breaks and freedom of movement\nVisual schedule (slide deck)\nAuto-generated closed captions\nXenia Concerts can also provide live ASL interpretation at our events upon request\, given sufficient lead time. If you would like to request ASL interpretation\, please send a request to kaylce.carter@xeniaconcerts.com at least ten (10) days before the event.\n\nQuestions and Accessibility Requests\nAll Xenia Concerts are designed to welcome and support neurodivergent and disabled attendees to the best of our ability. \nXenia Concerts is committed to meeting the needs of our audience. If you have accessibility-related questions or want to request an accommodation\, please contact Kaylce at kaylce.carter@xeniaconcerts.com. \nFor ticketing and general inquiries\, contact Paolo at paolo.griffin@xeniaconcerts.com. \nTo contact Xenia by phone\, call Rory at 437-441-7543. \nHealth & Safety\n\nMasks are recommended\nIf you have are sick\, please stay home\nMasks and hand sanitizer will be available at the venue\nXenia supports the use of PPE and other personal protective measures. Please feel free to bring your own protective supports as needed.\n\nThanks to our partners\nFlato Markham Theatre and Hand Over Hand \nThanks to our funders\nThe Canada Council for the Arts\, The Ontario Arts Council\, The Toronto Arts Council\, The Government of Canada\, TD\, The Rotary Club of Toronto and its charitable foundation\, The Toronto Foundation\, The TELUS Friendly Future Foundation\, The Metcalf Foundation\, The Azrieli Foundation\, Unity for Autism\, The George C. Hunt Family Foundation\, in honour of R.S. Williams & Sons Company Ltd.\, and Xenia Concerts donors.
URL:https://xeniaconcerts.com/event/saturday-january-24-adaptive-concert-with-pratibha-arts-at-flato-markham-theatre/
LOCATION:Flato Markham Theatre\, 171 Town Centre Boulevard\, Markham\, ON\, L3R 8G5\, Canada
CATEGORIES:Upcoming Event
ATTACH;FMTTYPE=image/jpeg:https://xeniaconcerts.com/wp-content/uploads/2024/01/BageshreeVaze-V-scaled.jpg
END:VEVENT
END:VCALENDAR