BEGIN:VCALENDAR
VERSION:2.0
PRODID:-//Xenia Concerts - ECPv6.15.20//NONSGML v1.0//EN
CALSCALE:GREGORIAN
METHOD:PUBLISH
X-ORIGINAL-URL:https://xeniaconcerts.com
X-WR-CALDESC:Events for Xenia Concerts
REFRESH-INTERVAL;VALUE=DURATION:PT1H
X-Robots-Tag:noindex
X-PUBLISHED-TTL:PT1H
BEGIN:VTIMEZONE
TZID:America/Toronto
BEGIN:DAYLIGHT
TZOFFSETFROM:-0500
TZOFFSETTO:-0400
TZNAME:EDT
DTSTART:20240310T070000
END:DAYLIGHT
BEGIN:STANDARD
TZOFFSETFROM:-0400
TZOFFSETTO:-0500
TZNAME:EST
DTSTART:20241103T060000
END:STANDARD
BEGIN:DAYLIGHT
TZOFFSETFROM:-0500
TZOFFSETTO:-0400
TZNAME:EDT
DTSTART:20250309T070000
END:DAYLIGHT
BEGIN:STANDARD
TZOFFSETFROM:-0400
TZOFFSETTO:-0500
TZNAME:EST
DTSTART:20251102T060000
END:STANDARD
BEGIN:DAYLIGHT
TZOFFSETFROM:-0500
TZOFFSETTO:-0400
TZNAME:EDT
DTSTART:20260308T070000
END:DAYLIGHT
BEGIN:STANDARD
TZOFFSETFROM:-0400
TZOFFSETTO:-0500
TZNAME:EST
DTSTART:20261101T060000
END:STANDARD
END:VTIMEZONE
BEGIN:VEVENT
DTSTART;TZID=America/Toronto:20251004T110000
DTEND;TZID=America/Toronto:20251004T120000
DTSTAMP:20260420T151406
CREATED:20250531T152529Z
LAST-MODIFIED:20251007T131921Z
UID:6383-1759575600-1759579200@xeniaconcerts.com
SUMMARY:October 4 2025 - An Adaptive Concert with Majoko at Flow Fest
DESCRIPTION:BOOK TICKETS\nConcert Description\nJoin Xenia Concerts at Flow Fest for our first Adaptive Concert in Brampton\, featuring Majoko! This concert is a multicultural celebration of percussion and song\, presented in a family-friendly environment that welcomes and supports neurodivergent and disabled attendees. This event is presented in partnership with Flow Fest and Brampton on Stage. \nThis is a FREE event and it’s part of a full day of musical activities at Flow Fest. Be sure to check out the rest of the activities! To book tickets: \n\nClick the “BOOK TICKETS” button above to access the Eventbrite page\nClick on “Get Tickets”\nSelect the tickets for the events you want to attend\nComplete the checkout process\n\nLocation\nRose Theatre \n1 Theatre Ln. \nBrampton\, ON \nDownload The Plain Text Venue Guide \nDownload The Visual Venue Guide \nFeatured Artists\nMajoko \nJoanna Majoko\, percussion \nJuan Carlos Medrano\, percussion \nRosendo Leon\, percussion \nFelix Papas\, keyboard \nConcert Accessibility Features\n\nAll expressions welcome! Feel free to make noise\, get up\, or stim!\nWheelchair accessible venue\nGender-neutral\, wheelchair accessible washrooms\nPDF Venue Guide \nAccessible PDF concert programs and listening guide emailed before event\nFidget toys and noise-cancelling earmuffs can be provided upon request (please bring your own if you can)\nFlexible seating and a separate area for breaks\nStretch breaks\nVisual schedule\nXenia Concerts can also provide live ASL interpretation at our events upon request\, given sufficient lead time. If you would like to request ASL interpretation\, please send a request to kaylce.carter@xeniaconcerts.com at least ten (10) days before the event.\n\nQuestions and Accessibility Requests\nXenia Concerts is committed to meeting the needs of our audience to the best of our abilities. If you have a question or request\, we really do want to hear from you! \nIf you have accessibility-related questions or requests\, please contact Kaylce at kaylce.carter@xeniaconcerts.com \nFor ticketing and general inquiries\, contact Xenia Concerts info@xeniaconcerts.com \nTo contact Xenia by phone\, call Rory at 437-441-7543. \nCOVID Safety\n\nMasks are recommended\nIf you have any symptoms of COVID or another infectious illness\, please stay home regardless of test results\nMasks and hand sanitizer will be available at the venue\nXenia supports the use of PPE and other personal protective measures. Please feel free to bring your own protective supports as needed.\n\nThanks to our Partners\nFlow Fest\, Brampton On Stage\, and The Lotus Centre \nThanks To Our Funders\nThe Canada Council for the Arts\, The Ontario Arts Council\, The Toronto Arts Council\, The Government of Canada\, The Azrieli Foundation\, Unity for Autism\, TD\, The Rotary Club of Toronto and its charitable foundation\, The Toronto Foundation\, The George C. Hunt Family Foundation\, in honour of R.S. Williams & Sons Company Ltd.\, and Xenia Concerts donors 
URL:https://xeniaconcerts.com/event/october-4-2025-an-adaptive-concert-with-majoko-at-flow-fest/
LOCATION:Rose Theatre\, 1 Theatre Ln.\, Brampton\, Ontario\, L6V 0A3\, Canada
CATEGORIES:Past Events
ATTACH;FMTTYPE=image/jpeg:https://xeniaconcerts.com/wp-content/uploads/2025/08/RM2_1675-scaled.jpg
END:VEVENT
BEGIN:VEVENT
DTSTART;TZID=America/Toronto:20251008T120000
DTEND;TZID=America/Toronto:20251008T130000
DTSTAMP:20260420T151406
CREATED:20250601T165050Z
LAST-MODIFIED:20250820T150306Z
UID:6364-1759924800-1759928400@xeniaconcerts.com
SUMMARY:October 8 2025 - Xenia Concerts and the COC present: Robin Dann and Friends
DESCRIPTION:Concert Description\nXenia Concerts and The Canadian Opera Company are delighted to present Robin Dann and Friends in a family-friendly\, accessible concert at the COC’s Free Concert Series! Robin Dann & Friends are a dynamic collective of performers exploring the transformative power of song and collaboration. Led by vocalist and composer Robin Dann\, the group brings together artists from diverse creative backgrounds to create emotional and socially engaged musical experiences that centre around her love of connecting through song. This is an opportunity to see these stellar performers together on stage presented in a family-friendly style that embraces neurodiversity and disability. \nThis is a free event and tickets are not required. Admission is on a first-come\, first-served basis. There is a waiting area at the box office of the Four Seasons Centre where you can stay warm while you wait. Doors open at 11:30 AM. \nDOWNLOAD THE EVENT FACT SHEET \nFeatured Artists\nRobin Dann\, vocals \nFelicity Williams\, vocals \nchiquitamagic\, keyboard & vocals \nNico Dann\, drums & vocals \nDate and Time\nWednesday\, October 8 at 12:00 PM (Doors open at 11:30 AM) \nLocation\nFour Seasons Centre for the Performing Arts \n145 Queen St W\, Toronto \nRichard Bradshaw Amphitheatre (2nd floor) \nDOWNLOAD FOUR SEASONS CENTRE VENUE GUIDE \nConcert Accessibility Features\n\nAll expressions welcome! Feel free to make noise\, get up\, or stim!\nVenue and gender-neutral washrooms accessible to wheelchair users\nSensory supports\, including noise-cancelling earmuffs\, weighted pillows\, balance pillows\, and fidgets (please bring your own if you can)\nFlexible seating and a separate area for breaks\nStretch breaks and freedom of movement\nVisual schedule (slide deck)\nClosed captions (Automatically generated. Please request seating close to the front for better visibility)\nVenue Guide\nFact Sheet\nXenia Concerts can also provide live ASL interpretation at our events upon request\, given sufficient lead time. If you would like to request ASL interpretation\, please send a request to kaylce.carter@xeniaconcerts.com at least ten (10) days before the event.\n\nQuestions and Accessibility Requests\nAll Xenia Concerts are designed to welcome and support neurodivergent and disabled attendees to the best of our ability. \nXenia Concerts is committed to meeting the needs of our audience. If you have accessibility-related questions or want to request an accommodation\, please contact Kaylce at kaylce.carter@xeniaconcerts.com. \nFor ticketing and general inquiries\, contact Paolo at paolo.griffin@xeniaconcerts.com. \nTo contact Xenia by phone\, call Rory at 437-441-7543. \nHealth & Safety\n\nMasks are recommended\nIf you’re sick\, please stay home\nMasks and hand sanitizer will be available at the venue\nXenia supports the use of PPE and other personal protective measures. Please feel free to bring your own protective supports as needed.\n\nThanks to our partners\nThe Canadian Opera Company \nThanks to our funders\nThe Canada Council for the Arts\, The Ontario Arts Council\, The Toronto Arts Council\, The Government of Canada\, TD\, The Rotary Club of Toronto and its charitable foundation\, The Azrieli Foundation\, The Toronto Foundation\, Unity for Autism\, The George C. Hunt Family Foundation\, in honour of R.S. Williams & Sons Company Ltd.\, and Xenia Concerts donors. \n 
URL:https://xeniaconcerts.com/event/october-8-2025-xenia-concerts-presents-robin-dann-friends-coc/
LOCATION:ON
CATEGORIES:Upcoming Event
ATTACH;FMTTYPE=image/jpeg:https://xeniaconcerts.com/wp-content/uploads/2025/06/Jazz-Is-What-COC-Audience-scaled.jpg
END:VEVENT
BEGIN:VEVENT
DTSTART;TZID=America/Toronto:20251009T110000
DTEND;TZID=America/Toronto:20251009T120000
DTSTAMP:20260420T151406
CREATED:20250601T170024Z
LAST-MODIFIED:20251201T141755Z
UID:6432-1760007600-1760011200@xeniaconcerts.com
SUMMARY:October 9 2025 in Parry Sound - Adaptive Concert for Kids and Families with Robin Dann & Friends
DESCRIPTION:Book Tickets\nConcert Description\nBring the kids to this fun\, family-friendly\, accessible concert at the Parry Sound Community Hub! This Adaptive Concert is specially designed for children\, youth\, and families\, particularly those who face barriers to attending traditional arts events. Xenia Concerts welcomes and supports neurodivergent and disabled attendees. All ages and expressions are welcome\, so bring the whole family! \nThis concert is presented in partnership with Inclusion Support Services and EarlyOn Child and Family Centre. The event will last one hour. \nThis is a free event\, and registration is required. Please RSVP to reserve your spot and receive important information about the event. Donations are gratefully accepted via Eventbrite and at the door. \nFeatured Artists\nRobin Dann & Friends are a dynamic collective of performers exploring the transformative power of song and collaboration. Led by vocalist and composer Robin Dann\, the group brings together artists from diverse creative backgrounds to create emotional and socially engaged musical experiences that centre around her love of connecting through song.  \nRobin Dann\, singer \nFelicity Williams\, singer \nchiquitamagic\, keyboard \nNico Dann\, drums \nDate and Time\nThursday\, October 9 at 11 AM \nLocation\nThe Hub Auditorium \n86 Gibson St. \nParry Sound\, ON \nDOWNLOAD THE HUB VENUE GUIDE \nConcert Features\n\nAll ages and expressions welcome! Feel free to make noise\, get up\, or stim!\nWheelchair accessible venue\nGender-neutral\, wheelchair accessible washrooms\nVenue Guide\nAccessible PDF concert programs and listening guide emailed before event\nFidget toys and noise-cancelling earmuffs can be provided upon request (please bring your own if you can)\nFlexible seating and a separate area for breaks\nStretch breaks\nVisual schedule\n\nQuestions and Accessibility Requests\nXenia Concerts is committed to meeting the needs of our audience to the best of our abilities. If you have a question or request\, we really do want to hear from you! \nIf you have accessibility-related questions or requests\, please contact Kaylce at kaylce.carter@xeniaconcerts.com. \nFor ticketing and general inquiries\, contact Paolo at paolo.griffin@xeniaconcerts.com. \nTo contact Xenia by phone\, call Rory at 437-441-7543. \nCOVID Safety\n\nMasks are recommended\nIf you’re sick\, please stay home\nMasks and hand sanitizer will be available at the venue\nXenia supports the use of PPE and other personal protective measures. Please feel free to bring your own protective supports as needed.\n\nThanks to our partners\nInclusion Support Services\, EarlyOn Child and Family Centre \nThanks to our funders\nEarlyON Child and Family Centre\, The Canada Council for the Arts\, The Ontario Arts Council\, The Toronto Arts Council\, The Government of Canada\, The Toronto Foundation\, The Rotary Club of Toronto and its charitable foundation\, The Rotary Club of Toronto and its charitable foundation\, The Toronto Foundation\, The Azrieli Foundation\, in honour of the R.S. Williams & Sons Company Ltd.\, and Xenia Concerts donors.
URL:https://xeniaconcerts.com/event/xenia-concerts-presents-an-adaptive-concert-with-robin-dann-friends-at-the-parry-sound-community-hub/
LOCATION:The Hub Auditorium\, 86 Gibson St\, Parry Sound\, ON\, Canada
CATEGORIES:Past Events
ATTACH;FMTTYPE=image/jpeg:https://xeniaconcerts.com/wp-content/uploads/2024/08/DSC_3254-scaled.jpg
END:VEVENT
END:VCALENDAR