BEGIN:VCALENDAR
VERSION:2.0
PRODID:-//Xenia Concerts - ECPv6.15.20//NONSGML v1.0//EN
CALSCALE:GREGORIAN
METHOD:PUBLISH
X-WR-CALNAME:Xenia Concerts
X-ORIGINAL-URL:https://xeniaconcerts.com
X-WR-CALDESC:Events for Xenia Concerts
REFRESH-INTERVAL;VALUE=DURATION:PT1H
X-Robots-Tag:noindex
X-PUBLISHED-TTL:PT1H
BEGIN:VTIMEZONE
TZID:America/Toronto
BEGIN:DAYLIGHT
TZOFFSETFROM:-0500
TZOFFSETTO:-0400
TZNAME:EDT
DTSTART:20160313T070000
END:DAYLIGHT
BEGIN:STANDARD
TZOFFSETFROM:-0400
TZOFFSETTO:-0500
TZNAME:EST
DTSTART:20161106T060000
END:STANDARD
BEGIN:DAYLIGHT
TZOFFSETFROM:-0500
TZOFFSETTO:-0400
TZNAME:EDT
DTSTART:20170312T070000
END:DAYLIGHT
BEGIN:STANDARD
TZOFFSETFROM:-0400
TZOFFSETTO:-0500
TZNAME:EST
DTSTART:20171105T060000
END:STANDARD
BEGIN:DAYLIGHT
TZOFFSETFROM:-0500
TZOFFSETTO:-0400
TZNAME:EDT
DTSTART:20180311T070000
END:DAYLIGHT
BEGIN:STANDARD
TZOFFSETFROM:-0400
TZOFFSETTO:-0500
TZNAME:EST
DTSTART:20181104T060000
END:STANDARD
END:VTIMEZONE
BEGIN:VEVENT
DTSTART;VALUE=DATE:20171125
DTEND;VALUE=DATE:20171127
DTSTAMP:20260421T155441
CREATED:20170829T213544Z
LAST-MODIFIED:20171101T180845Z
UID:539-1511636400-1511722799@xeniaconcerts.com
SUMMARY:Laura Swankey at The Sony Centre
DESCRIPTION:Join us for THE CHANGING SKIES! \nEast of the Sun – Brooks Bowman\nSoftly As In A Morning Sunrise – Sigmund Romberg\, lyrics by Oscar Hammerstein\nBoth Sides Now – Joni Mitchell\nSkylark – Hoagy Carmichael\nI’ll be Seeing You – Sammy Fain\, lyrics by Irving Kahal\nMidnight Sun – Lionel Hampton\, lyrics by Sonny Burke\nTurn Out the Stars – Bill Evans\, lyrics by Tierney Sutton\nStars Fell on Alabama – Frank Perkins\, lyrics by Mitchell Parish\nLook to the Sky – Antônio Carlos Jobim \n  \nClick HERE to listen to a little bit of this music. \n  \nClick the RSVP button for tickets!    
URL:https://xeniaconcerts.com/event/laura-swankey-at-the-sony-centre/
LOCATION:Meridian Hall\, 1 Front Street East\, Toronto\, Ontario\, M5E 1B2\, Canada
END:VEVENT
BEGIN:VEVENT
DTSTART;VALUE=DATE:20171118
DTEND;VALUE=DATE:20171120
DTSTAMP:20260421T155441
CREATED:20171029T044924Z
LAST-MODIFIED:20180215T052022Z
UID:604-1511031600-1511117999@xeniaconcerts.com
SUMMARY:Xenia Concerts at Ottawa Chamberfest - The Laura Swankey Quartet
DESCRIPTION:Join us for THE CHANGING SKIES! \nEast of the Sun – Brooks Bowman\nSoftly As In A Morning Sunrise – Sigmund Romberg\, lyrics by Oscar Hammerstein\nBoth Sides Now – Joni Mitchell\nSkylark – Hoagy Carmichael\nI’ll be Seeing You – Sammy Fain\, lyrics by Irving Kahal\nMidnight Sun – Lionel Hampton\, lyrics by Sonny Burke\nTurn Out the Stars – Bill Evans\, lyrics by Tierney Sutton\nStars Fell on Alabama – Frank Perkins\, lyrics by Mitchell Parish\nLook to the Sky – Antônio Carlos Jobim \n  \nClick HERE to listen to a little bit of this music. \n  \nClick here to register!    
URL:https://xeniaconcerts.com/event/xenia-concerts-at-ocms-the-laura-swankey-quartet/
LOCATION:Ontario
ORGANIZER;CN="Ottawa Chamberfest":MAILTO:boxoffice@chamberfest.com
END:VEVENT
BEGIN:VEVENT
DTSTART;VALUE=DATE:20171022
DTEND;VALUE=DATE:20171024
DTSTAMP:20260421T155441
CREATED:20170506T170210Z
LAST-MODIFIED:20171011T170141Z
UID:443-1508702400-1508788799@xeniaconcerts.com
SUMMARY:Xenia Concerts at Cecilian Chamber Series
DESCRIPTION:The first Xenia Concert in Regina SK! \nBeyond Words – The Music of Felix Mendelssohn! \nSong Without Words\, Op. 62 No. 6\, Allegretto grazioso (arr. string quartet)\nString Quartet Op. 44 No. 1\, Movement 1 – Molto allegro vivace\nSong Without Words\, Op. 102 No. 2\, Adagio (arr. string quartet)\nString Quartet Op. 44 No. 1\, Movement 2 – Menuetto: Un poco allegretto\nSong Without Words\, Op. 19 No. 2\, Andante espressivo (arr. string quartet)\nString Quartet Op. 44 No. 1\, Movement 3 – Andante espressivo ma con moto\nSong Without Words\, Op. 102 No. 3\, Presto (arr. string quartet)\nString Quartet Op. 44 No. 1\, Movement 4 – Presto con brio \n  \nClick HERE to listen to a little bit of this music. \n  \nClick here for more details!
URL:https://xeniaconcerts.com/event/xenia-concerts-at-cecilian-chamber-series/
LOCATION:Ontario
ORGANIZER;CN="Cecilian Chamber Series":MAILTO:cecilianconcerts@accesscomm.ca
END:VEVENT
BEGIN:VEVENT
DTSTART;TZID=America/Toronto:20171001T070000
DTEND;TZID=America/Toronto:20171001T080000
DTSTAMP:20260421T155441
CREATED:20170829T213357Z
LAST-MODIFIED:20170922T221524Z
UID:535-1506841200-1506844800@xeniaconcerts.com
SUMMARY:The Gryphon Trio at The Sony Centre
DESCRIPTION:Xenia Concerts returns for its fourth season at The Sony Centre!\nJoin us for the exciting season premiere on October 1st featuring the internationally acclaimed Gryphon Trio! This dynamic threesome will perform works by Beethoven\, Dvořák\, Piazzolla\, and others for their Xenia debut – we are so excited to welcome them to the Xenia stage! \nClick here to watch the Gryphon Trio performing. \nThis concert is designed to appeal to\, and be welcoming of\, children on the autism spectrum and their families. We welcome you to enjoy this incredible music with us! \nClick the RSVP button to get your tickets!
URL:https://xeniaconcerts.com/event/the-gryphon-trio-at-xenia-concerts/
LOCATION:Meridian Hall\, 1 Front Street East\, Toronto\, Ontario\, M5E 1B2\, Canada
ORGANIZER;CN="Xenia Concerts Inc.":MAILTO:xeniaconcerts@gmail.com
END:VEVENT
BEGIN:VEVENT
DTSTART;TZID=America/Toronto:20170909T110000
DTEND;TZID=America/Toronto:20170909T120000
DTSTAMP:20260421T155441
CREATED:20170506T165928Z
LAST-MODIFIED:20170929T074027Z
UID:441-1504954800-1504958400@xeniaconcerts.com
SUMMARY:Xenia Concerts at the 2017 Honens Festival
DESCRIPTION:The First Xenia Concert in Calgary AB!
URL:https://xeniaconcerts.com/event/xenia-concerts-at-the-2017-honens-festival/
LOCATION:Ontario
END:VEVENT
BEGIN:VEVENT
DTSTART;VALUE=DATE:20170728
DTEND;VALUE=DATE:20170730
DTSTAMP:20260421T155441
CREATED:20170506T165611Z
LAST-MODIFIED:20170929T074109Z
UID:437-1501272000-1501358399@xeniaconcerts.com
SUMMARY:Xenia Concerts at Ottawa ChamberFest - Vocalise!
DESCRIPTION:Featuring tenor Lawrence Wiliford!
URL:https://xeniaconcerts.com/event/xenia-concerts-at-ottawa-chamberfest-vocalise/
LOCATION:Ontario
ORGANIZER;CN="Ottawa Chamberfest":MAILTO:boxoffice@chamberfest.com
END:VEVENT
BEGIN:VEVENT
DTSTART;TZID=America/Toronto:20170527T093000
DTEND;TZID=America/Toronto:20170527T103000
DTSTAMP:20260421T155441
CREATED:20170425T215836Z
LAST-MODIFIED:20170929T074122Z
UID:359-1495877400-1495881000@xeniaconcerts.com
SUMMARY:The Cecilia String Quartet - Classical Dance Party!
DESCRIPTION:Join us for this program of danceable hits that are sure to get your toes tapping! \nTickets are FREE with RSVP – call 416-425-6220 ext. 6047 to reserve your spot at the concert!
URL:https://xeniaconcerts.com/event/classical-dance-party/
LOCATION:Holland Bloorview Kids Rehabilitation Hospital\, 150 Kilgour Road\, Toronto\, ON\, M4G 1R8\, Canada
END:VEVENT
BEGIN:VEVENT
DTSTART;TZID=America/Toronto:20170430T070000
DTEND;TZID=America/Toronto:20170430T080000
DTSTAMP:20260421T155441
CREATED:20170416T165008Z
LAST-MODIFIED:20170929T074136Z
UID:307-1493535600-1493539200@xeniaconcerts.com
SUMMARY:The Laura Swankey Jazz Trio
DESCRIPTION:Laura Swankey is a fantastically skilled vocalist known for her versatility\, creativity\, and open spirit. Together with her friends Patrick O’Reilly on guitar and Andrew Furlong on upright bass\, she will dazzle the Xenia crowd with hits by Peggy Lee\, Thelonius Monk\, Irving Berlin\, and others. Come celebrate spring with us! \nThis concert is designed to appeal to\, and be welcoming of\, children on the autism spectrum and their families. We welcome you to enjoy this incredible music with us!
URL:https://xeniaconcerts.com/event/the-laura-swankey-jazz-trio/
LOCATION:Meridian Hall\, 1 Front Street East\, Toronto\, Ontario\, M5E 1B2\, Canada
END:VEVENT
BEGIN:VEVENT
DTSTART;TZID=America/Toronto:20170429T120000
DTEND;TZID=America/Toronto:20170429T130000
DTSTAMP:20260421T155441
CREATED:20170425T214847Z
LAST-MODIFIED:20170929T074202Z
UID:353-1493467200-1493470800@xeniaconcerts.com
SUMMARY:The Cecilia String Quartet - Schubert's Musical Moment
DESCRIPTION:“Anyone who loves music can never be quite unhappy.” \nThese are the words of Franz Schubert. For this program\, the Cecilia String Quartet will take the listener on an enthralling journey through Schubert’s epic and masterful String Quartet No. 14\, with a sprinkling of some Moments Musicaux along the way!
URL:https://xeniaconcerts.com/event/the-cecilia-string-quartet-schuberts-musical-moment/
LOCATION:Festival House – Bluefest School of Music and Art\, 450 Churchill Avenue\, Ottawa\, ON\, K1Z 5E2\, Canada
ORGANIZER;CN="Ottawa Chamberfest":MAILTO:boxoffice@chamberfest.com
END:VEVENT
END:VCALENDAR