BEGIN:VCALENDAR
VERSION:2.0
PRODID:-//Xenia Concerts - ECPv6.15.20//NONSGML v1.0//EN
CALSCALE:GREGORIAN
METHOD:PUBLISH
X-ORIGINAL-URL:https://xeniaconcerts.com
X-WR-CALDESC:Events for Xenia Concerts
REFRESH-INTERVAL;VALUE=DURATION:PT1H
X-Robots-Tag:noindex
X-PUBLISHED-TTL:PT1H
BEGIN:VTIMEZONE
TZID:America/Toronto
BEGIN:DAYLIGHT
TZOFFSETFROM:-0500
TZOFFSETTO:-0400
TZNAME:EDT
DTSTART:20250309T070000
END:DAYLIGHT
BEGIN:STANDARD
TZOFFSETFROM:-0400
TZOFFSETTO:-0500
TZNAME:EST
DTSTART:20251102T060000
END:STANDARD
BEGIN:DAYLIGHT
TZOFFSETFROM:-0500
TZOFFSETTO:-0400
TZNAME:EDT
DTSTART:20260308T070000
END:DAYLIGHT
BEGIN:STANDARD
TZOFFSETFROM:-0400
TZOFFSETTO:-0500
TZNAME:EST
DTSTART:20261101T060000
END:STANDARD
BEGIN:DAYLIGHT
TZOFFSETFROM:-0500
TZOFFSETTO:-0400
TZNAME:EDT
DTSTART:20270314T070000
END:DAYLIGHT
BEGIN:STANDARD
TZOFFSETFROM:-0400
TZOFFSETTO:-0500
TZNAME:EST
DTSTART:20271107T060000
END:STANDARD
BEGIN:DAYLIGHT
TZOFFSETFROM:-0500
TZOFFSETTO:-0400
TZNAME:EDT
DTSTART:20280312T070000
END:DAYLIGHT
BEGIN:STANDARD
TZOFFSETFROM:-0400
TZOFFSETTO:-0500
TZNAME:EST
DTSTART:20281105T060000
END:STANDARD
END:VTIMEZONE
BEGIN:VEVENT
DTSTART;TZID=America/Toronto:20261114T110000
DTEND;TZID=America/Toronto:20261114T120000
DTSTAMP:20260420T215612
CREATED:20260417T135829Z
LAST-MODIFIED:20260417T141925Z
UID:6669-1794654000-1794657600@xeniaconcerts.com
SUMMARY:November 14 2026 - Xenia Concerts and Markham Flato Theatre present: Ladom Ensemble
DESCRIPTION:RSVP 11 AM\nConcert Description\nJoin Xenia Concerts and Markham Flato Theatre for a very special concert featuring the Ladom Ensemble! Ladom Ensemble combines piano\, cello\, accordion\, and percussion in a unique blend of acoustic chamber and world music that is passionate\, sophisticated\, and wild. Their all-original repertoire incorporates inspirations from Argentinean tango\, Serbian folk and dance traditions\, Persian classical repertoire\, as well as music from the Classical (Bach\, Prokofiev)\, and progressive rock worlds (Radiohead). Ladom doesn’t pretend to represent any one tradition\, but rather expresses an authentically Canadian fusion. \nLocation\nFlato Markham Theatre \n171 Town Centre Blvd.\, Markham \nDOWNLOAD THE VENUE GUIDE \nFeatured Artists\nLadom Ensemble \nBeth Silver\, cello \nMichael Bridge\, accordion \nPouya Hamidi\, piano \nAdam Campbell\, percussion \nConcert Accessibility Features\n\nAll expressions welcome! Feel free to make noise\, get up\, or stim!\nWheelchair accessible venue\nGender-neutral\, wheelchair accessible washrooms\nPDF Venue Guide \nAccessible PDF concert programs and listening guide emailed before event\nFidget toys and noise-cancelling earmuffs can be provided upon request (please bring your own if you can)\nFlexible seating and a separate area for breaks\nStretch breaks\nVisual schedule\nXenia Concerts can also provide live ASL interpretation at our events upon request\, given sufficient lead time. If you would like to request ASL interpretation\, please send a request to kaylce.carter@xeniaconcerts.com at least ten (10) days before the event.\n\nQuestions and Accessibility Requests\nXenia Concerts is committed to meeting the needs of our audience to the best of our abilities. If you have a question or request\, we really do want to hear from you! \nIf you have accessibility-related questions or requests\, please contact Kaylce at kaylce.carter@xeniaconcerts.com \nFor ticketing and general inquiries\, contact Xenia Concerts info@xeniaconcerts.com \nTo contact Xenia by phone\, call Rory at 437-441-7543. \nHealth & Safety\n\nMasks are recommended\nIf you have are sick\, please stay home\nMasks and hand sanitizer will be available at the venue\nXenia supports the use of PPE and other personal protective measures. Please feel free to bring your own protective supports as needed.\n\nThanks to our Partners\nMarkham Flato Theatre and Hand Over Hand \nThanks To Our Funders\nThe Canada Council for the Arts\, The Ontario Arts Council\, The Toronto Arts Council\, The Government of Canada\, TD\, The Rotary Club of Toronto and its charitable foundation\, The Metcalf Foundation\, The TELUS Friendly Future Foundation\, The Azrieli Foundation\, Unity for Autism\, The George C. Hunt Family Foundation\, in honour of R.S. Williams & Sons Company Ltd.\, and Xenia Concerts donors.
URL:https://xeniaconcerts.com/event/november-14-2026-xenia-concerts-and-markham-flato-theatre-present-ladom-ensemble/
LOCATION:Flato Markham Theatre\, 171 Town Centre Boulevard\, Markham\, ON\, L3R 8G5\, Canada
CATEGORIES:Upcoming Event
ATTACH;FMTTYPE=image/jpeg:https://xeniaconcerts.com/wp-content/uploads/2025/05/LadomBo1.jpg
END:VEVENT
BEGIN:VEVENT
DTSTART;TZID=America/Toronto:20270206T110000
DTEND;TZID=America/Toronto:20270206T120000
DTSTAMP:20260420T215612
CREATED:20260417T140219Z
LAST-MODIFIED:20260417T141910Z
UID:6672-1801911600-1801915200@xeniaconcerts.com
SUMMARY:February 6 2027 - Xenia Concerts and Markham Flato Theatre present: d
DESCRIPTION:RSVP 11 AM\nConcert Description\nJoin Xenia Concerts and Markham Flato Theatre for a very special concert featuring the featuring Majoko! This concert is a multicultural celebration of percussion and song\, presented in a family-friendly environment that welcomes and supports neurodivergent and disabled attendees \nLocation\nFlato Markham Theatre \n171 Town Centre Blvd.\, Markham \nDOWNLOAD THE VENUE GUIDE \nFeatured Artists\nMajoko \nJoanna Majoko\, percussion \nJuan Carlos Medrano\, percussion \nRosendo Leon\, percussion \nFelix Papas\, keyboard \nConcert Accessibility Features\n\nAll expressions welcome! Feel free to make noise\, get up\, or stim!\nWheelchair accessible venue\nGender-neutral\, wheelchair accessible washrooms\nPDF Venue Guide \nAccessible PDF concert programs and listening guide emailed before event\nFidget toys and noise-cancelling earmuffs can be provided upon request (please bring your own if you can)\nFlexible seating and a separate area for breaks\nStretch breaks\nVisual schedule\nXenia Concerts can also provide live ASL interpretation at our events upon request\, given sufficient lead time. If you would like to request ASL interpretation\, please send a request to kaylce.carter@xeniaconcerts.com at least ten (10) days before the event.\n\nQuestions and Accessibility Requests\nXenia Concerts is committed to meeting the needs of our audience to the best of our abilities. If you have a question or request\, we really do want to hear from you! \nIf you have accessibility-related questions or requests\, please contact Kaylce at kaylce.carter@xeniaconcerts.com \nFor ticketing and general inquiries\, contact Xenia Concerts info@xeniaconcerts.com \nTo contact Xenia by phone\, call Rory at 437-441-7543. \nHealth & Safety\n\nMasks are recommended\nIf you have are sick\, please stay home\nMasks and hand sanitizer will be available at the venue\nXenia supports the use of PPE and other personal protective measures. Please feel free to bring your own protective supports as needed.\n\nThanks to our Partners\nMarkham Flato Theatre and Hand Over Hand \nThanks To Our Funders\nThe Canada Council for the Arts\, The Ontario Arts Council\, The Toronto Arts Council\, The Government of Canada\, TD\, The Rotary Club of Toronto and its charitable foundation\, The Metcalf Foundation\, The TELUS Friendly Future Foundation\, The Azrieli Foundation\, Unity for Autism\, The George C. Hunt Family Foundation\, in honour of R.S. Williams & Sons Company Ltd.\, and Xenia Concerts donors.
URL:https://xeniaconcerts.com/event/february-6-2027-xenia-concerts-and-markham-flato-theatre-present-majoko/
LOCATION:Flato Markham Theatre\, 171 Town Centre Boulevard\, Markham\, ON\, L3R 8G5\, Canada
CATEGORIES:Upcoming Event
ATTACH;FMTTYPE=image/jpeg:https://xeniaconcerts.com/wp-content/uploads/2025/08/Joanna-Majoko-2.jpg
END:VEVENT
END:VCALENDAR