BEGIN:VCALENDAR
VERSION:2.0
PRODID:-//Xenia Concerts - ECPv6.15.20//NONSGML v1.0//EN
CALSCALE:GREGORIAN
METHOD:PUBLISH
X-ORIGINAL-URL:https://xeniaconcerts.com
X-WR-CALDESC:Events for Xenia Concerts
REFRESH-INTERVAL;VALUE=DURATION:PT1H
X-Robots-Tag:noindex
X-PUBLISHED-TTL:PT1H
BEGIN:VTIMEZONE
TZID:America/Toronto
BEGIN:DAYLIGHT
TZOFFSETFROM:-0500
TZOFFSETTO:-0400
TZNAME:EDT
DTSTART:20210314T070000
END:DAYLIGHT
BEGIN:STANDARD
TZOFFSETFROM:-0400
TZOFFSETTO:-0500
TZNAME:EST
DTSTART:20211107T060000
END:STANDARD
BEGIN:DAYLIGHT
TZOFFSETFROM:-0500
TZOFFSETTO:-0400
TZNAME:EDT
DTSTART:20220313T070000
END:DAYLIGHT
BEGIN:STANDARD
TZOFFSETFROM:-0400
TZOFFSETTO:-0500
TZNAME:EST
DTSTART:20221106T060000
END:STANDARD
BEGIN:DAYLIGHT
TZOFFSETFROM:-0500
TZOFFSETTO:-0400
TZNAME:EDT
DTSTART:20230312T070000
END:DAYLIGHT
BEGIN:STANDARD
TZOFFSETFROM:-0400
TZOFFSETTO:-0500
TZNAME:EST
DTSTART:20231105T060000
END:STANDARD
BEGIN:DAYLIGHT
TZOFFSETFROM:-0500
TZOFFSETTO:-0400
TZNAME:EDT
DTSTART:20240310T070000
END:DAYLIGHT
BEGIN:STANDARD
TZOFFSETFROM:-0400
TZOFFSETTO:-0500
TZNAME:EST
DTSTART:20241103T060000
END:STANDARD
END:VTIMEZONE
BEGIN:VEVENT
DTSTART;TZID=America/Toronto:20231124T130000
DTEND;TZID=America/Toronto:20231124T140000
DTSTAMP:20260421T052535
CREATED:20230811T154023Z
LAST-MODIFIED:20231026T205313Z
UID:5082-1700830800-1700834400@xeniaconcerts.com
SUMMARY:PRIVATE - Xenia Concerts presents Jennarie and Friends at The Beverley School
DESCRIPTION:Concert Description\nXenia Concerts makes a private appearance at The Beverley School with a family-friendly concert that embraces neurodiversity and disability! This collaboration between Xenia Concerts and The Beverley School provides an inspiring musical experience to the school’s attendees!  \nThis concert has been designed to be enjoyable and accessible for neurodivergent listeners\, those with disabilities\, and their families and caregivers. \nFeaturing\nJennarie & Friends \nThanks to our Partners\nThe Beverley School \nThanks To Our Funders\nThe Canada Council for the Arts\, The Ontario Arts Council\, The Toronto Arts Council\, The Government of Canada\, The Azrieli Foundation\, a donation in honour of the R.S. Williams & Sons Company Ltd.\, and Xenia Concerts donors. \nMore About Xenia Private Concerts\nXenia Concerts is always happy to organise an event for the neurodiversity and disability communities at a private space! Want to know if we can make an appearance with your organization? Get in touch by sending us an e-mail at info@xeniaconcerts.com \nSupport Concerts Like This One\nVisit our Giving Tuesday Page \nDonate via CanadaHelps
URL:https://xeniaconcerts.com/event/private-xenia-concerts-presents-jenna-marie-pinard-and-friends-at-the-beverley-school/
LOCATION:The Beverley School\, 64 Baldwin St.\, Toronto\, Ontario\, Canada
CATEGORIES:Private Events,Upcoming Event
ATTACH;FMTTYPE=image/jpeg:https://xeniaconcerts.com/wp-content/uploads/2023/10/avatars-000478866357-wa4vic-t500x500.jpg
END:VEVENT
BEGIN:VEVENT
DTSTART;TZID=America/Toronto:20220212T140000
DTEND;TZID=America/Toronto:20220212T150000
DTSTAMP:20260421T052535
CREATED:20220120T155410Z
LAST-MODIFIED:20220307T203317Z
UID:2464-1644674400-1644678000@xeniaconcerts.com
SUMMARY:Xenia Concerts & Alzheimer Society of Toronto Present: Koh Duo
DESCRIPTION:   \nJoin us for a dementia-friendly online concert\, hosted by Alzheimer Society of Toronto in partnership with TO Live! This concert will be broadcast live over Zoom from Meridian Hall. \n\nConcert Description\nWhat happens when we dream or cease to dream? Bo-Yon Koh and Min-Jeong Koh\, sisters who have been playing music together since childhood\, share their personal stories on how dreams have guided their journeys. \nProgram\nWorks for violin and piano by Edward Elgar\, Felix Mendelssohn\, Arvo Pärt\, Marjan Mozetich\, and Claude Debussy. \nConcert Features\n\nHour-long concert with short musical selections\nVerbal introductions to each piece\nStretch breaks\nLive audio transcription (closed captions)\nVisual description for Blind and visually impaired listeners\nQ & A session with the musicians\nLarge print concert programs\n\n\n\n\n\n\n\n\n\n\n 
URL:https://xeniaconcerts.com/event/xenia-concerts-alzheimer-society-of-toronto-present-koh-duo/
LOCATION:Zoom
CATEGORIES:Past Events,Private Events
END:VEVENT
END:VCALENDAR