BEGIN:VCALENDAR
VERSION:2.0
PRODID:-//Xenia Concerts - ECPv6.15.20//NONSGML v1.0//EN
CALSCALE:GREGORIAN
METHOD:PUBLISH
X-ORIGINAL-URL:https://xeniaconcerts.com
X-WR-CALDESC:Events for Xenia Concerts
REFRESH-INTERVAL;VALUE=DURATION:PT1H
X-Robots-Tag:noindex
X-PUBLISHED-TTL:PT1H
BEGIN:VTIMEZONE
TZID:America/Toronto
BEGIN:DAYLIGHT
TZOFFSETFROM:-0500
TZOFFSETTO:-0400
TZNAME:EDT
DTSTART:20240310T070000
END:DAYLIGHT
BEGIN:STANDARD
TZOFFSETFROM:-0400
TZOFFSETTO:-0500
TZNAME:EST
DTSTART:20241103T060000
END:STANDARD
BEGIN:DAYLIGHT
TZOFFSETFROM:-0500
TZOFFSETTO:-0400
TZNAME:EDT
DTSTART:20250309T070000
END:DAYLIGHT
BEGIN:STANDARD
TZOFFSETFROM:-0400
TZOFFSETTO:-0500
TZNAME:EST
DTSTART:20251102T060000
END:STANDARD
BEGIN:DAYLIGHT
TZOFFSETFROM:-0500
TZOFFSETTO:-0400
TZNAME:EDT
DTSTART:20260308T070000
END:DAYLIGHT
BEGIN:STANDARD
TZOFFSETFROM:-0400
TZOFFSETTO:-0500
TZNAME:EST
DTSTART:20261101T060000
END:STANDARD
END:VTIMEZONE
BEGIN:VEVENT
DTSTART;TZID=America/Toronto:20250719T110000
DTEND;TZID=America/Toronto:20250719T120000
DTSTAMP:20260421T180423
CREATED:20250527T181536Z
LAST-MODIFIED:20251007T131931Z
UID:6165-1752922800-1752926400@xeniaconcerts.com
SUMMARY:July 19 2025 - Xenia@TSM: VC2 Cello Duo
DESCRIPTION:SOLD OUT\nConcert Description\nTwo cellos and two cellists: they’re the same\, but different! Join us for a fun and interactive introduction to the many voices of the cello. From the deepest bass notes to the lyrical treble\, from quick\, driving rhythms to soothing melodies\, the cello—and the cellists of VC2 Cello Duo—can play everything from classical to jazz to heavy metal. Bryan and Amahl will not only explain what makes the instrument so special\, they’ll also introduce you to music spanning over 250 years of history. \nThis hour-long\, family-friendly Adaptive Concert is designed to support the needs of disabled and neurodivergent attendees. We offer an inclusive\, judgement-free environment where all expressions are welcome. For a full list of accessibility accommodations\, see below. \nLocation\nEdward Johnson Building \nUniversity of Toronto Faculty of Music \n80 Queen’s Park Circle \nDOWNLOAD THE VENUE GUIDE \nFeaturing\nVC2 Cello Duo \nBryan Holt\, cello \nAmahl Arulanandam\, cello \nConcert Accessibility Features\n\nAll expressions welcome! Feel free to make noise\, get up\, or stim!\nWheelchair accessible venue\nGender-neutral\, wheelchair accessible washrooms\nPDF Venue Guide \nAccessible PDF concert programs and listening guide emailed before event\nFidget toys and noise-cancelling earmuffs can be provided upon request (please bring your own if you can)\nFlexible seating and a separate area for breaks\nStretch breaks\nVisual schedule\nXenia Concerts can also provide live ASL interpretation at our events upon request\, given sufficient lead time. If you would like to request ASL interpretation\, please send a request to kaylce.carter@xeniaconcerts.com at least ten (10) days before the event.\n\nQuestions and Accessibility Requests\nXenia Concerts is committed to meeting the needs of our audience to the best of our abilities. If you have a question or request\, we really do want to hear from you! \nIf you have accessibility-related questions or requests\, please contact Kaylce at kaylce.carter@xeniaconcerts.com \nFor ticketing and general inquiries\, contact Xenia Concerts info@xeniaconcerts.com \nTo contact Xenia by phone\, call Rory at 437-441-7543. \nCovid Safety Measures\n\nMasks are recommended\nIf you’re sick\, please stay home\n\nThanks to our Partners\nToronto Summer Music \nThanks To Our Funders\nThe Canada Council for the Arts\, The Ontario Arts Council\, The Toronto Arts Council\, The Government of Canada\, The Azrieli Foundation\, Unity for Autism\, TD\, The Rotary Club of Toronto and its charitable foundation The George C. Hunt Family Foundation\, in honour of R.S. Williams & Sons Company Ltd.\, and Xenia Concerts donors
URL:https://xeniaconcerts.com/event/july-20-xeniatsm-vc2-cello-duo/
LOCATION:U of T Faculty of Music\, 80 Queens Park\, Toronto\, Ontario\, M5S 2C5\, Canada
CATEGORIES:Past Events
END:VEVENT
END:VCALENDAR