BEGIN:VCALENDAR
VERSION:2.0
PRODID:-//Xenia Concerts - ECPv6.15.20//NONSGML v1.0//EN
CALSCALE:GREGORIAN
METHOD:PUBLISH
X-WR-CALNAME:Xenia Concerts
X-ORIGINAL-URL:https://xeniaconcerts.com
X-WR-CALDESC:Events for Xenia Concerts
REFRESH-INTERVAL;VALUE=DURATION:PT1H
X-Robots-Tag:noindex
X-PUBLISHED-TTL:PT1H
BEGIN:VTIMEZONE
TZID:America/Toronto
BEGIN:DAYLIGHT
TZOFFSETFROM:-0500
TZOFFSETTO:-0400
TZNAME:EDT
DTSTART:20230312T070000
END:DAYLIGHT
BEGIN:STANDARD
TZOFFSETFROM:-0400
TZOFFSETTO:-0500
TZNAME:EST
DTSTART:20231105T060000
END:STANDARD
BEGIN:DAYLIGHT
TZOFFSETFROM:-0500
TZOFFSETTO:-0400
TZNAME:EDT
DTSTART:20240310T070000
END:DAYLIGHT
BEGIN:STANDARD
TZOFFSETFROM:-0400
TZOFFSETTO:-0500
TZNAME:EST
DTSTART:20241103T060000
END:STANDARD
BEGIN:DAYLIGHT
TZOFFSETFROM:-0500
TZOFFSETTO:-0400
TZNAME:EDT
DTSTART:20250309T070000
END:DAYLIGHT
BEGIN:STANDARD
TZOFFSETFROM:-0400
TZOFFSETTO:-0500
TZNAME:EST
DTSTART:20251102T060000
END:STANDARD
END:VTIMEZONE
BEGIN:VEVENT
DTSTART;TZID=America/Toronto:20240720T110000
DTEND;TZID=America/Toronto:20240720T120000
DTSTAMP:20260422T122428
CREATED:20240506T124826Z
LAST-MODIFIED:20240722T134454Z
UID:5370-1721473200-1721476800@xeniaconcerts.com
SUMMARY:July 20 - Xenia@TSM: Kyra Millan presents “The Opera”
DESCRIPTION:Note: This Concert Does Not Require Tickets to Attend!\nConcert Description\nLet this dynamic performance take you on a whirlwind interactive introduction to all the sublimely ridiculous elements in the world of opera! Kyra Millan presents “The Opera” takes the audience on a 60-minute exhilarating and hilarious journey of Kyra’s barely being able to speak in public to becoming an opera singer. This highly interactive performance engages the audience to become the auditioner\, orchestra\, chorus\, and some even find themselves singing with Kyra Millan on stage. This performance brings you a unique combination of comedy and excellent musicianship with this unique and engaging show. \nLocation\nEdward Johnson Building \nUniversity of Toronto Faculty of Music \n80 Queen’s Park Circle \nDOWNLOAD THE VENUE GUIDE \nFeaturing\nKyra Millan\, soprano \nSpencer Kryzanowski\, piano\nConcert Accessibility Features\n\nAll expressions welcome! Feel free to make noise\, get up\, or stim!\nWheelchair accessible venue\nGender-neutral\, wheelchair accessible washrooms\nPDF Venue Guide \nAccessible PDF concert programs and listening guide emailed before event\nFidget toys and noise-cancelling earmuffs can be provided upon request (please bring your own if you can)\nFlexible seating and a separate area for breaks\nStretch breaks\nVisual schedule\nXenia Concerts can also provide live ASL interpretation at our events upon request\, given sufficient lead time. If you would like to request ASL interpretation\, please send a request to kayla.carter@xeniaconcerts.com at least ten (10) days before the event.\n\nQuestions and Accessibility Requests\nXenia Concerts is committed to meeting the needs of our audience to the best of our abilities. If you have a question or request\, we really do want to hear from you! \nIf you have accessibility-related questions or requests\, please contact Kayla at kayla.carter@xeniaconcerts.com. \nFor ticketing and general inquiries\, contact Paolo at paolo.griffin@xeniaconcerts.com. \nTo contact Xenia by phone\, call Rory at 647-896-8295. \nCovid Safety Measures\n\nMasks are recommended\nIf you have any symptoms of COVID\, please stay home regardless of test results\n\nThanks to our Partners\nToronto Summer Music \nThanks To Our Funders\nThe Canada Council for the Arts\, The Ontario Arts Council\, The Toronto Arts Council\, The Government of Canada\, The Azrieli Foundation\, a donation in honour of the R.S. Williams & Sons Company Ltd.\, and Xenia Concerts donors.
URL:https://xeniaconcerts.com/event/july-20-xeniatsm-an-adaptive-concert-with-millan-and-faye/
LOCATION:U of T Faculty of Music\, 80 Queens Park\, Toronto\, Ontario\, M5S 2C5\, Canada
CATEGORIES:Past Events
ATTACH;FMTTYPE=image/jpeg:https://xeniaconcerts.com/wp-content/uploads/2024/05/redpiano-scaled.jpg
END:VEVENT
END:VCALENDAR