BEGIN:VCALENDAR
VERSION:2.0
PRODID:-//Xenia Concerts - ECPv6.15.20//NONSGML v1.0//EN
CALSCALE:GREGORIAN
METHOD:PUBLISH
X-ORIGINAL-URL:https://xeniaconcerts.com
X-WR-CALDESC:Events for Xenia Concerts
REFRESH-INTERVAL;VALUE=DURATION:PT1H
X-Robots-Tag:noindex
X-PUBLISHED-TTL:PT1H
BEGIN:VTIMEZONE
TZID:America/Toronto
BEGIN:DAYLIGHT
TZOFFSETFROM:-0500
TZOFFSETTO:-0400
TZNAME:EDT
DTSTART:20230312T070000
END:DAYLIGHT
BEGIN:STANDARD
TZOFFSETFROM:-0400
TZOFFSETTO:-0500
TZNAME:EST
DTSTART:20231105T060000
END:STANDARD
BEGIN:DAYLIGHT
TZOFFSETFROM:-0500
TZOFFSETTO:-0400
TZNAME:EDT
DTSTART:20240310T070000
END:DAYLIGHT
BEGIN:STANDARD
TZOFFSETFROM:-0400
TZOFFSETTO:-0500
TZNAME:EST
DTSTART:20241103T060000
END:STANDARD
BEGIN:DAYLIGHT
TZOFFSETFROM:-0500
TZOFFSETTO:-0400
TZNAME:EDT
DTSTART:20250309T070000
END:DAYLIGHT
BEGIN:STANDARD
TZOFFSETFROM:-0400
TZOFFSETTO:-0500
TZNAME:EST
DTSTART:20251102T060000
END:STANDARD
END:VTIMEZONE
BEGIN:VEVENT
DTSTART;TZID=America/Toronto:20240710T150000
DTEND;TZID=America/Toronto:20240710T170000
DTSTAMP:20260422T123527
CREATED:20240320T164114Z
LAST-MODIFIED:20240722T134515Z
UID:5385-1720623600-1720630800@xeniaconcerts.com
SUMMARY:PRIVATE EVENT - July 10 - Michael Bridge & Diane Kolin at Safehaven
DESCRIPTION:Concert Description\nXenia Concerts makes a private appearance at Safehaven with a family-friendly concert that embraces neurodiversity and disability! This collaboration between Xenia Concerts and Safehaven provides an inspiring musical experience to the organization’s attendees!  \nThis concert has been designed to be enjoyable and accessible for neurodivergent listeners\, those with disabilities\, and their families and caregivers. \nFeaturing\nDiane Kolin\, vocals\nMichael Bridge\, accordion \nThanks to our Partners\nSafehaven \nThanks To Our Funders\nThe Canada Council for the Arts\, The Ontario Arts Council\, The Toronto Arts Council\, The Government of Canada\, The Azrieli Foundation\, a donation in honour of the R.S. Williams & Sons Company Ltd.\, and Xenia Concerts donors. \nMore About Xenia Private Concerts\nXenia Concerts is always happy to organise an event for the neurodiversity and disability communities at a private space! Want to know if we can make an appearance with your organization? Get in touch by sending us an e-mail at info@xeniaconcerts.com \nSupport Concerts Like This One\nDonate via CanadaHelps
URL:https://xeniaconcerts.com/event/private-event-july-10-michael-bridge-diane-kolin-at-safehaven/
LOCATION:Safehaven\, 1173 Bloor St W\, Toronto\, Ontario\, M6H 1M9\, Canada
CATEGORIES:Past Events
END:VEVENT
END:VCALENDAR