BEGIN:VCALENDAR
VERSION:2.0
PRODID:-//Xenia Concerts - ECPv6.15.20//NONSGML v1.0//EN
CALSCALE:GREGORIAN
METHOD:PUBLISH
X-ORIGINAL-URL:https://xeniaconcerts.com
X-WR-CALDESC:Events for Xenia Concerts
REFRESH-INTERVAL;VALUE=DURATION:PT1H
X-Robots-Tag:noindex
X-PUBLISHED-TTL:PT1H
BEGIN:VTIMEZONE
TZID:America/Toronto
BEGIN:DAYLIGHT
TZOFFSETFROM:-0500
TZOFFSETTO:-0400
TZNAME:EDT
DTSTART:20230312T070000
END:DAYLIGHT
BEGIN:STANDARD
TZOFFSETFROM:-0400
TZOFFSETTO:-0500
TZNAME:EST
DTSTART:20231105T060000
END:STANDARD
BEGIN:DAYLIGHT
TZOFFSETFROM:-0500
TZOFFSETTO:-0400
TZNAME:EDT
DTSTART:20240310T070000
END:DAYLIGHT
BEGIN:STANDARD
TZOFFSETFROM:-0400
TZOFFSETTO:-0500
TZNAME:EST
DTSTART:20241103T060000
END:STANDARD
BEGIN:DAYLIGHT
TZOFFSETFROM:-0500
TZOFFSETTO:-0400
TZNAME:EDT
DTSTART:20250309T070000
END:DAYLIGHT
BEGIN:STANDARD
TZOFFSETFROM:-0400
TZOFFSETTO:-0500
TZNAME:EST
DTSTART:20251102T060000
END:STANDARD
END:VTIMEZONE
BEGIN:VEVENT
DTSTART;TZID=America/Toronto:20240526T140000
DTEND;TZID=America/Toronto:20240526T170000
DTSTAMP:20260422T152412
CREATED:20240319T152527Z
LAST-MODIFIED:20240527T151711Z
UID:5402-1716732000-1716742800@xeniaconcerts.com
SUMMARY:SENSEsational Social! A Xenia Fundraiser
DESCRIPTION:Sunday\, May 26 at 2 PM \nSociety Clubhouse\, 967 College St. \nSENSEsational Ticket: $125  \nSuperSENSEsational Ticket: $250 (Includes a gift bag of Xenia merch\, a musical thank-you at the event\, and a special mention on the Xenia social media and website) \n  \nBuy Tickets\n  \nSilent Auction\nWant to avoid ticket processing fees? You can book tickets by sending an e-transfer to xeniaconcerts@gmail.com. Please email Paolo Griffin at paolo.griffin@xeniaconcets.com to indicate the number and type of tickets you would like to purchase. \nYou’re Invited!\nThe staff and Board of Directors of Xenia Concerts are pleased to announce the SENSEsational Social\, Xenia Concerts’ FIRST-EVER concert fundraiser event! \nSENSEsational Social is an annual gala live-music and fundraising event for Xenia Concerts\, strengthening its commitment to its mission and a sense of community among its valued audience\, partners\, donors\, and artists. \nOver the past ten years\, Xenia Concerts has established itself as Canada’s leader in the design and presentation of exceptional\, accessible concerts for children\, youth\, older adults\, and families in the neurodiversity and disability communities. With concerts\, presentations\, and workshops reaching from East to West coasts\, Xenia is full-out dedicated to bringing inspiring\, engaging musical experiences to audiences that are often excluded. Xenia is building community and inspiring creativity through the power of music. \nXenia is at a critical place in its evolution where the need to reach new audiences\, develop educational resources\, and share our expertise with fellow artists and organizations requires us to grow considerably. It is time to take a leap forward and we are asking for your help. Xenia is looking for investors who believe that when you reduce barriers and celebrate differences\, everyone benefits. It’s time to celebrate the joy of inclusion! \nThe first-ever Xenia Concerts SENSEsational Social is an opportunity to support our mission and a chance to get to know us better. Your ticket to SENSEsation Social is your pass to an afternoon of fantastic performances by Bridge & Wolak\, Jennarie\, and Phoenix the Fire\, delicious nibbles and desserts\, a glass of something cheerful…and the best part…knowing that you will be helping Xenia Concert achieve its vision of making Canada a place where EVERYONE has access to great arts experiences. \nEvery ticket to the Xenia Concerts SENSEsational Social carries an allowable tax receiptable amount of $65.  \nSENSEsational Social \n/sen-sa-tion-al-sōSH(ə)l/ \nnoun \n\nA party with live music in support of an awesome charity by which those attending enjoy inspiring musical performances; engage in conversations with cool artists; and consume a delectable array of food and delicious drink\, while generally having a fabulous time.\n\nUse in a sentence; “…the attendee of the Xenia SENSEsational Social has a keen sense of community spirit\, generosity\, and superb artistic taste.”\n\nFeatured Artists\nBridge & Wolak\, clarinet/accordion/comedy duo \nJennarie and Jay Yoo\, vocal/guitar duo \nGaitrie Killings\, Musical ASL \nWant to get involved?\nFor sponsorship opportunities\, silent auction contributions\, and event information\, please contact Paolo Griffin via e-mail at paolo.griffin@xeniaconcerts.com. \nUnable to attend?\nShow your support by donating through CanadaHelps or bidding on our Silent Auction! \nDonate \nExplore the Auction \nAccessibility Information\nDownload the Venue Guide \nThe Society Clubhouse is a wheelchair accessible venue\, and ASL interpretation will be provided throughout the event.  \nOther accessibility features at the event include: \n\nAll expressions welcome! Feel free to make noise\, get up\, or stim!\nMusical ASL\nGender-neutral\, wheelchair accessible washroom\nAccessible e-programs emailed before event\nSensory toys\, balance seats\, weighted pillows\, and weighted blankets available (bring your own from home if you can!\nFlexible seating and designated quiet tables\n\nIf you have questions or requests regarding accessibility\, please contact Accessibility Coordinator Kayla Carter at kayla.carter@xeniaconcerts.com. \nHealth and Safety Information\n\nIf you have any symptoms of infectious illness\, please stay home regardless of COVID test results. We will refund your ticket upon request.\nMasks are welcome and encouraged\nHand sanitizer will be available
URL:https://xeniaconcerts.com/event/xenia-concerts-fundraiser-gala/
LOCATION:Society Clubhouse\, 967 College St\, Toronto\, Ontario\, M6H 1A6\, Canada
CATEGORIES:Past Events
ATTACH;FMTTYPE=image/jpeg:https://xeniaconcerts.com/wp-content/uploads/2024/03/Fundraiser-Cover-Image.jpg
END:VEVENT
END:VCALENDAR