BEGIN:VCALENDAR
VERSION:2.0
PRODID:-//Xenia Concerts - ECPv6.15.20//NONSGML v1.0//EN
CALSCALE:GREGORIAN
METHOD:PUBLISH
X-ORIGINAL-URL:https://xeniaconcerts.com
X-WR-CALDESC:Events for Xenia Concerts
REFRESH-INTERVAL;VALUE=DURATION:PT1H
X-Robots-Tag:noindex
X-PUBLISHED-TTL:PT1H
BEGIN:VTIMEZONE
TZID:America/Toronto
BEGIN:DAYLIGHT
TZOFFSETFROM:-0500
TZOFFSETTO:-0400
TZNAME:EDT
DTSTART:20230312T070000
END:DAYLIGHT
BEGIN:STANDARD
TZOFFSETFROM:-0400
TZOFFSETTO:-0500
TZNAME:EST
DTSTART:20231105T060000
END:STANDARD
BEGIN:DAYLIGHT
TZOFFSETFROM:-0500
TZOFFSETTO:-0400
TZNAME:EDT
DTSTART:20240310T070000
END:DAYLIGHT
BEGIN:STANDARD
TZOFFSETFROM:-0400
TZOFFSETTO:-0500
TZNAME:EST
DTSTART:20241103T060000
END:STANDARD
BEGIN:DAYLIGHT
TZOFFSETFROM:-0500
TZOFFSETTO:-0400
TZNAME:EDT
DTSTART:20250309T070000
END:DAYLIGHT
BEGIN:STANDARD
TZOFFSETFROM:-0400
TZOFFSETTO:-0500
TZNAME:EST
DTSTART:20251102T060000
END:STANDARD
END:VTIMEZONE
BEGIN:VEVENT
DTSTART;TZID=America/Toronto:20240427T110000
DTEND;TZID=America/Toronto:20240427T120000
DTSTAMP:20260422T172054
CREATED:20230811T190926Z
LAST-MODIFIED:20240506T115637Z
UID:4464-1714215600-1714219200@xeniaconcerts.com
SUMMARY:April 27 2024 @ 11AM – Xenia Concerts presents in partnership with TO Live: Raine Hamilton Trio & Tamyka Bullen
DESCRIPTION:RSVP\nConcert Description\nImagine Joni Mitchell with a string quartet – songs with cello\, bass and violin! The Raine Hamilton Trio is teaming up with Tamyka Bullen to perform arrangements of Raine’s original songs with musical ASL interpretation on stage. This family-friendly Adaptive Concert is designed to be welcoming and inclusive for D/deaf\, neurodivergent\, and disabled attendees.  \nLocation\nMeridian Hall \n1 Front Street East\, Toronto \nLower Lobby \nDOWNLOAD THE VENUE GUIDE \nFeaturing\nRaine Hamilton\, vocals\, violin\, and guitar \nEvan Lamberton\, cello \nPeter Klaassen\, bass \nTamyka Bullen\, Musical ASL Interpretation \nConcert Accessibility Features\n\nAll expressions welcome! Feel free to make noise\, get up\, or stim!\nWheelchair accessible venue\nGender-neutral\, wheelchair accessible washrooms\nMusical ASL Interpretation\nPDF Venue Guide \nAccessible PDF concert programs and listening guide emailed before event\nFidget toys and noise-cancelling earmuffs can be provided upon request (please bring your own if you can)\nFlexible seating and a separate area for breaks\nStretch breaks\nVisual schedule\nXenia Concerts can also provide live ASL interpretation at our events upon request\, given sufficient lead time. If you would like to request ASL interpretation\, please send a request to kayla.carter@xeniaconcerts.com at least ten (10) days before the event.\n\nQuestions and Accessibility Requests\nXenia Concerts is committed to meeting the needs of our audience to the best of our abilities. If you have a question or request\, we really do want to hear from you! \nIf you have accessibility-related questions or requests\, please contact Kayla at kayla.carter@xeniaconcerts.com. \nFor ticketing and general inquiries\, contact Paolo at paolo.griffin@xeniaconcerts.com. \nTo contact Xenia by phone\, call Rory at 647-896-8295. \nCovid Safety Measures\n\nMasks are recommended\nIf you have any symptoms of COVID\, please stay home regardless of test results\n\nTicket Reimbursement\nXenia Concerts collects a $5 deposit for each attendee to reserve your spot at the concert. To eliminate financial barriers to attendance\, we will refund your ticket when you arrive at the concert. If you wish to donate to Xenia Concerts\, please select the “donation” option and enter the amount you would like to contribute. \nThanks to our Partners\nTO Live and One Health Partners \nThanks To Our Funders\nThe Canada Council for the Arts\, The Ontario Arts Council\, The Toronto Arts Council\, The Government of Canada\, The Azrieli Foundation\, a donation in honour of the R.S. Williams & Sons Company Ltd.\, and Xenia Concerts donors.
URL:https://xeniaconcerts.com/event/april-27-2024-xenia-concerts-presents-in-partnership-with-to-live-raine-hamilton/
LOCATION:Meridian Hall\, 1 Front Street East\, Toronto\, Ontario\, M5E 1B2\, Canada
CATEGORIES:Past Events
ATTACH;FMTTYPE=image/jpeg:https://xeniaconcerts.com/wp-content/uploads/2023/08/Raine-filtered_137-scaled.jpg
END:VEVENT
BEGIN:VEVENT
DTSTART;TZID=America/Toronto:20240427T140000
DTEND;TZID=America/Toronto:20240427T150000
DTSTAMP:20260422T172054
CREATED:20230811T191000Z
LAST-MODIFIED:20240506T115643Z
UID:4759-1714226400-1714230000@xeniaconcerts.com
SUMMARY:April 27 2024 @ 2PM – Xenia Concerts presents in partnership with TO Live: Raine Hamilton Trio & Tamyka Bullen
DESCRIPTION:RSVP\nConcert Description\nImagine Joni Mitchell with a string quartet – songs with cello\, bass and violin! The Raine Hamilton Trio is teaming up with Tamyka Bullen to perform arrangements of Raine’s original songs with musical ASL interpretation on stage! This family-friendly Adaptive Concert is designed to be welcoming and inclusive for D/deaf\, neurodivergent\, and disabled attendees.  \nLocation\nMeridian Hall \n1 Front Street East\, Toronto \nLower Lobby \nDOWNLOAD THE VENUE GUIDE \nFeaturing\nRaine Hamilton\, vocals\, violin\, and guitar \nEvan Lamberton\, cello \nPeter Klaassen\, bass \nTamyka Bullen\, Musical ASL \nConcert Accessibility Features\n\nAll expressions welcome! Feel free to make noise\, get up\, or stim!\nWheelchair accessible venue\nGender-neutral\, wheelchair accessible washrooms\nMusical ASL Interpretation\nPDF Venue Guide \nAccessible PDF concert programs and listening guide emailed before event\nFidget toys and noise-cancelling earmuffs can be provided upon request (please bring your own if you can)\nFlexible seating and a separate area for breaks\nStretch breaks\nVisual schedule\nXenia Concerts can also provide live ASL interpretation at our events upon request\, given sufficient lead time. If you would like to request ASL interpretation\, please send a request to kayla.carter@xeniaconcerts.com at least ten (10) days before the event.\n\nQuestions and Accessibility Requests\nXenia Concerts is committed to meeting the needs of our audience to the best of our abilities. If you have a question or request\, we really do want to hear from you! \nIf you have accessibility-related questions or requests\, please contact Kayla at kayla.carter@xeniaconcerts.com. \nFor ticketing and general inquiries\, contact Paolo at paolo.griffin@xeniaconcerts.com. \nTo contact Xenia by phone\, call Rory at 647-896-8295. \nCovid Safety Measures\n\nMasks are recommended\nIf you have any symptoms of COVID\, please stay home regardless of test results\n\nTicket Reimbursement\nXenia Concerts collects a $5 deposit for each attendee to reserve your spot at the concert. To eliminate financial barriers to attendance\, we will refund your ticket when you arrive at the concert. If you wish to donate to Xenia Concerts\, please select the “donation” option and enter the amount you would like to contribute. \nThanks to our Partners\nTO Live and One Health Partners \nThanks To Our Funders\nThe Canada Council for the Arts\, The Ontario Arts Council\, The Toronto Arts Council\, The Government of Canada\, The Azrieli Foundation\, a donation in honour of the R.S. Williams & Sons Company Ltd.\, and Xenia Concerts donors.
URL:https://xeniaconcerts.com/event/april-27-2024-2pm-xenia-concerts-presents-in-partnership-with-to-live-raine-hamilton/
LOCATION:Meridian Hall\, 1 Front Street East\, Toronto\, Ontario\, M5E 1B2\, Canada
CATEGORIES:Past Events
ATTACH;FMTTYPE=image/jpeg:https://xeniaconcerts.com/wp-content/uploads/2023/08/Tamyka-Bullen-Photo-scaled.jpg
END:VEVENT
END:VCALENDAR