BEGIN:VCALENDAR
VERSION:2.0
PRODID:-//Xenia Concerts - ECPv6.15.20//NONSGML v1.0//EN
CALSCALE:GREGORIAN
METHOD:PUBLISH
X-ORIGINAL-URL:https://xeniaconcerts.com
X-WR-CALDESC:Events for Xenia Concerts
REFRESH-INTERVAL;VALUE=DURATION:PT1H
X-Robots-Tag:noindex
X-PUBLISHED-TTL:PT1H
BEGIN:VTIMEZONE
TZID:America/Toronto
BEGIN:DAYLIGHT
TZOFFSETFROM:-0500
TZOFFSETTO:-0400
TZNAME:EDT
DTSTART:20230312T070000
END:DAYLIGHT
BEGIN:STANDARD
TZOFFSETFROM:-0400
TZOFFSETTO:-0500
TZNAME:EST
DTSTART:20231105T060000
END:STANDARD
BEGIN:DAYLIGHT
TZOFFSETFROM:-0500
TZOFFSETTO:-0400
TZNAME:EDT
DTSTART:20240310T070000
END:DAYLIGHT
BEGIN:STANDARD
TZOFFSETFROM:-0400
TZOFFSETTO:-0500
TZNAME:EST
DTSTART:20241103T060000
END:STANDARD
BEGIN:DAYLIGHT
TZOFFSETFROM:-0500
TZOFFSETTO:-0400
TZNAME:EDT
DTSTART:20250309T070000
END:DAYLIGHT
BEGIN:STANDARD
TZOFFSETFROM:-0400
TZOFFSETTO:-0500
TZNAME:EST
DTSTART:20251102T060000
END:STANDARD
END:VTIMEZONE
BEGIN:VEVENT
DTSTART;TZID=America/Toronto:20240407T140000
DTEND;TZID=America/Toronto:20240407T150000
DTSTAMP:20260422T165315
CREATED:20230811T185553Z
LAST-MODIFIED:20240506T115623Z
UID:4952-1712498400-1712502000@xeniaconcerts.com
SUMMARY:April 7 2024 @ 11AM PDT – Xenia Concerts presents: An Adaptive Concert with Triology in VANCOUVER
DESCRIPTION:RSVP\nConcert Description\nJoin Xenia Concerts at Pyatt Hall for a family-friendly Adaptive Concert that embraces and supports neurodiversity and disability! The jazz trio Triology\, all faculty members at the VSO School of Music\, have prepared a special hour-long concert program that welcomes and supports members of the neurodiversity and disability communities.  \nWhat’s an Adaptive Concert?  \nAn Adaptive Concert is a family-friendly event designed to welcome and support neurodivergent and disabled audience members\, especially children\, youth\, and their families. Flexible seating\, visual aids\, freedom to move\, and wheelchair accessibility are just some of the accessibility features included in this concert. See below for a complete list. \nLocation\nPyatt Hall at the VSO School Of Music \n843 Seymour St\, Vancouver\, BC V6B 3L4 \nDOWNLOAD THE VENUE GUIDE \nFeaturing\nTriology \nMiles Black\, piano \nBill Coon\, guitar \nJodi Proznick\, double bass \nConcert Accessibility Features\n\nAll expressions welcome! Feel free to make noise\, get up\, or stim!\nWheelchair accessible venue\nGender-neutral\, wheelchair accessible washrooms\nPDF Venue Guide \nAccessible PDF concert programs and listening guide emailed before event\nFidget toys and noise-cancelling earmuffs can be provided upon request (please bring your own if you can)\nFlexible seating and a separate area for breaks\nStretch breaks\nVisual schedule\nXenia Concerts can also provide live ASL interpretation at our events upon request\, given sufficient lead time. If you would like to request ASL interpretation\, please send a request to kayla.carter@xeniaconcerts.com at least ten (10) days before the event.\n\nQuestions and Accessibility Requests\nXenia Concerts is committed to meeting the needs of our audience to the best of our abilities. If you have a question or request\, we really do want to hear from you! \nIf you have accessibility-related questions or requests\, please contact Kayla at kayla.carter@xeniaconcerts.com. \nFor ticketing and general inquiries\, contact Paolo at paolo.griffin@xeniaconcerts.com. \nTo contact Xenia by phone\, call Rory at 647-896-8295. \nCovid Safety Measures\n\nMasks are recommended\nIf you have any symptoms of COVID\, please stay home regardless of test results\n\nPresenting Partner\nThe VSO School of Music \nMarketing Partner\nMüzewest \nArtist Training partners\nThe Lotus Centre\, Autism Canada \nThanks to our funders\nThe Canada Council for the Arts\, The Ontario Arts Council\, The Toronto Arts Council\, The Government of Canada\, The Azrieli Foundation\, Unity for Autism\, a donation in honour of R.S. Williams & Sons Company Ltd.\, and Xenia Concerts donors.
URL:https://xeniaconcerts.com/event/april-7-2024-11am-xenia-concerts-presents-an-adaptive-concert-with-triology-in-vancouver/
LOCATION:pyatt hall\, 843 Seymour St.\, Vancouver\, BC\, V6B 3L4\, Canada
CATEGORIES:Past Events
ATTACH;FMTTYPE=image/jpeg:https://xeniaconcerts.com/wp-content/uploads/2024/02/TriologyPhoto1-ezgif.com-webp-to-jpg-converter-e1708095511507.jpg
END:VEVENT
END:VCALENDAR