BEGIN:VCALENDAR
VERSION:2.0
PRODID:-//Xenia Concerts - ECPv6.15.20//NONSGML v1.0//EN
CALSCALE:GREGORIAN
METHOD:PUBLISH
X-WR-CALNAME:Xenia Concerts
X-ORIGINAL-URL:https://xeniaconcerts.com
X-WR-CALDESC:Events for Xenia Concerts
REFRESH-INTERVAL;VALUE=DURATION:PT1H
X-Robots-Tag:noindex
X-PUBLISHED-TTL:PT1H
BEGIN:VTIMEZONE
TZID:America/Toronto
BEGIN:DAYLIGHT
TZOFFSETFROM:-0500
TZOFFSETTO:-0400
TZNAME:EDT
DTSTART:20230312T070000
END:DAYLIGHT
BEGIN:STANDARD
TZOFFSETFROM:-0400
TZOFFSETTO:-0500
TZNAME:EST
DTSTART:20231105T060000
END:STANDARD
BEGIN:DAYLIGHT
TZOFFSETFROM:-0500
TZOFFSETTO:-0400
TZNAME:EDT
DTSTART:20240310T070000
END:DAYLIGHT
BEGIN:STANDARD
TZOFFSETFROM:-0400
TZOFFSETTO:-0500
TZNAME:EST
DTSTART:20241103T060000
END:STANDARD
BEGIN:DAYLIGHT
TZOFFSETFROM:-0500
TZOFFSETTO:-0400
TZNAME:EDT
DTSTART:20250309T070000
END:DAYLIGHT
BEGIN:STANDARD
TZOFFSETFROM:-0400
TZOFFSETTO:-0500
TZNAME:EST
DTSTART:20251102T060000
END:STANDARD
END:VTIMEZONE
BEGIN:VEVENT
DTSTART;TZID=America/Toronto:20240302T110000
DTEND;TZID=America/Toronto:20240302T120000
DTSTAMP:20260422T190224
CREATED:20230811T180002Z
LAST-MODIFIED:20240312T133525Z
UID:4451-1709377200-1709380800@xeniaconcerts.com
SUMMARY:March 2 2024 @ 11AM – Xenia Concerts presents in partnership with TO Live: Pratibha Arts
DESCRIPTION:RSVP\nConcert Description\nJoin us to experience the classical arts of Kathak dance and Tabla drumming originating from North India! Featuring interactive storytelling through Indian classical hand gestures known as mudras\, the performance will display rhythmic complexity and dynamic movement language. This Adaptive music and dance Performance is presented in a family-friendly\, inclusive environment that embraces neurodiversity and disability. See below for a complete list of accessibility features. \nLocation\nMeridian Arts Centre \n5040 Yonge Street\, North York \nUpper Gallery \nDOWNLOAD THE VENUE GUIDE \nFeatured Artists\nPratibha Arts \nBageshree Vaze\, dancer and vocalist \nVineet Vyas\, tabla \nKalashree Vyas\, vocalist \nPankaj Mishra\, sarangi \nConcert Accessibility Features\n\nAll expressions welcome! Feel free to make noise\, get up\, or stim!\nWheelchair accessible venue\nGender-neutral\, wheelchair accessible washrooms\nPDF Venue Guide \nAccessible PDF concert programs and listening guide emailed before event\nFidget toys and noise-cancelling earmuffs can be provided upon request (please bring your own if you can)\nFlexible seating and a separate area for breaks\nStretch breaks\nVisual schedule\nXenia Concerts can also provide live ASL interpretation at our events upon request\, given sufficient lead time. If you would like to request ASL interpretation\, please send a request to kayla.carter@xeniaconcerts.com at least ten (10) days before the event.\n\nQuestions and Accessibility Requests\nXenia Concerts is committed to meeting the needs of our audience to the best of our abilities. If you have a question or request\, we really do want to hear from you! \nIf you have accessibility-related questions or requests\, please contact Kayla at kayla.carter@xeniaconcerts.com. \nFor ticketing and general inquiries\, contact Paolo at paolo.griffin@xeniaconcerts.com. \nTo contact Xenia by phone\, call Rory at 647-896-8295. \nCovid Safety Measures\n\nMasks are recommended\nIf you have any symptoms of COVID\, please stay home regardless of test results\n\nThanks to our Partners\nTO Live\, Autism Ontario\, Autism Canada\, The Lotus Centre\, and Hand Over Hand \nThanks To Our Funders\nThe Canada Council for the Arts\, The Ontario Arts Council\, The Toronto Arts Council\, The Government of Canada\, The Azrieli Foundation\, Unity for Autism\, in honour of R.S. Williams & Sons Company Ltd.\, and Xenia Concerts donors. \nTicket Reimbursement\nXenia Concerts collects a $5 deposit for each attendee to reserve your spot at the concert. To eliminate financial barriers to attendance\, we will refund your ticket when you arrive at the concert. If you wish to donate to Xenia Concerts\, please select the “donation” option and enter the amount you would like to contribute.
URL:https://xeniaconcerts.com/event/march-2-2024-xenia-concerts-presents-in-partnership-with-to-live-pratibha-arts/
LOCATION:Meridian Arts Centre\, 5040 Yonge St.\, Toronto\, Ontario\, M2N 6R8\, Canada
CATEGORIES:Past Events
ATTACH;FMTTYPE=image/jpeg:https://xeniaconcerts.com/wp-content/uploads/2023/08/sibambai2020-scaled.jpg
END:VEVENT
BEGIN:VEVENT
DTSTART;TZID=America/Toronto:20240302T140000
DTEND;TZID=America/Toronto:20240302T150000
DTSTAMP:20260422T190224
CREATED:20230811T180126Z
LAST-MODIFIED:20240312T133520Z
UID:4527-1709388000-1709391600@xeniaconcerts.com
SUMMARY:March 2 2024 @ 2PM – Xenia Concerts presents in partnership with Alzheimer Society of Toronto: Pratibha Arts
DESCRIPTION:RSVP\nConcert Description\nJoin us to experience the classical arts of Kathak dance and Tabla drumming originating from North India! Featuring interactive storytelling through Indian classical hand gestures known as mudras\, the performance will display rhythmic complexity and dynamic movement language. This Intergenerational Performance is presented in a family-friendly\, inclusive environment that embraces neurodiversity and disability. See below for a complete list of accessibility features. \nLocation\nMeridian Arts Centre \n5040 Yonge Street\, North York \nUpper Gallery \nDOWNLOAD THE VENUE GUIDE \nFeatured Artists\nPratibha Arts \nBageshree Vaze\, dancer and vocalist \nVineet Vyas\, tabla \nKalashree Vyas\, vocalist \nPankaj Mishra\, sarangi \nConcert Accessibility Features\n\nAll expressions welcome! Feel free to make noise\, get up\, or stim!\nWheelchair accessible venue\nGender-neutral\, wheelchair accessible washrooms\nPDF Venue Guide \nAccessible PDF concert programs and listening guide emailed before event\nFidget toys and noise-cancelling earmuffs can be provided upon request (please bring your own if you can)\nFlexible seating and a separate area for breaks\nStretch breaks\nVisual schedule\nTherapy dogs\, provided by One Health Partners\nXenia Concerts can also provide live ASL interpretation at our events upon request\, given sufficient lead time. If you would like to request ASL interpretation\, please send a request to kayla.carter@xeniaconcerts.com at least ten (10) days before the event.\n\nQuestions and Accessibility Requests\nXenia Concerts is committed to meeting the needs of our audience to the best of our abilities. If you have a question or request\, we really do want to hear from you! \nIf you have accessibility-related questions or requests\, please contact Kayla at kayla.carter@xeniaconcerts.com. \nFor ticketing and general inquiries\, contact Paolo at paolo.griffin@xeniaconcerts.com. \nTo contact Xenia by phone\, call Rory at 647-896-8295. \nCovid Safety Measures\n\nMasks are recommended\nIf you have any symptoms of COVID\, please stay home regardless of test results\n \n\nThanks to our Partners\nTO Live\, Alzheimer Society of Toronto\, One Health Partners\, Autism Ontario\, Autism Canada\, and The Lotus Centre \nThanks To Our Funders\nThe Canada Council for the Arts\, The Ontario Arts Council\, The Toronto Arts Council\, The Government of Canada\, The Azrieli Foundation\, Unity for Autism\, The George C. Hunt Family Foundation\, in honour of R.S. Williams & Sons Company Ltd.\, and Xenia Concerts donors. \nTicket Reimbursement\nXenia Concerts collects a $5 deposit for each attendee to reserve your spot at the concert. To eliminate financial barriers to attendance\, we will refund your ticket when you arrive at the concert. If you wish to donate to Xenia Concerts\, please select the “donation” option and enter the amount you would like to contribute.
URL:https://xeniaconcerts.com/event/march-2-2024-xenia-concerts-presents-in-partnership-with-alzheimer-society-of-toronto-pratibha-arts/
LOCATION:Meridian Arts Centre\, 5040 Yonge St.\, Toronto\, Ontario\, M2N 6R8\, Canada
CATEGORIES:Past Events
ATTACH;FMTTYPE=image/jpeg:https://xeniaconcerts.com/wp-content/uploads/2023/08/278986408_527725902258780_5134778412116651111_n.jpg
END:VEVENT
END:VCALENDAR