BEGIN:VCALENDAR
VERSION:2.0
PRODID:-//Xenia Concerts - ECPv6.15.20//NONSGML v1.0//EN
CALSCALE:GREGORIAN
METHOD:PUBLISH
X-WR-CALNAME:Xenia Concerts
X-ORIGINAL-URL:https://xeniaconcerts.com
X-WR-CALDESC:Events for Xenia Concerts
REFRESH-INTERVAL;VALUE=DURATION:PT1H
X-Robots-Tag:noindex
X-PUBLISHED-TTL:PT1H
BEGIN:VTIMEZONE
TZID:America/Toronto
BEGIN:DAYLIGHT
TZOFFSETFROM:-0500
TZOFFSETTO:-0400
TZNAME:EDT
DTSTART:20240310T070000
END:DAYLIGHT
BEGIN:STANDARD
TZOFFSETFROM:-0400
TZOFFSETTO:-0500
TZNAME:EST
DTSTART:20241103T060000
END:STANDARD
BEGIN:DAYLIGHT
TZOFFSETFROM:-0500
TZOFFSETTO:-0400
TZNAME:EDT
DTSTART:20250309T070000
END:DAYLIGHT
BEGIN:STANDARD
TZOFFSETFROM:-0400
TZOFFSETTO:-0500
TZNAME:EST
DTSTART:20251102T060000
END:STANDARD
BEGIN:DAYLIGHT
TZOFFSETFROM:-0500
TZOFFSETTO:-0400
TZNAME:EDT
DTSTART:20260308T070000
END:DAYLIGHT
BEGIN:STANDARD
TZOFFSETFROM:-0400
TZOFFSETTO:-0500
TZNAME:EST
DTSTART:20261101T060000
END:STANDARD
END:VTIMEZONE
BEGIN:VEVENT
DTSTART;VALUE=DATE:20250409
DTEND;VALUE=DATE:20250410
DTSTAMP:20260421T214546
CREATED:20250401T160032Z
LAST-MODIFIED:20250703T150313Z
UID:6145-1744156800-1744243199@xeniaconcerts.com
SUMMARY:April 9 Private Concert - Xenia Concerts presents ASD Band at The Beverly School!
DESCRIPTION:Concert Description\nXenia Concerts presents a show at the Beverly School featuring AS Band! \nThis concert has been designed to be enjoyable and accessible for neurodivergent listeners\, those with disabilities\, and their families and caregivers. \nFeaturing\nASD Band \nJackson D Begley\nMaury Aitken LaFoy\nRawan Tuffaha\nRon M. Adea\nSpenser William Paul Murray \nCOVID Safety\n\nMasks are recommended\nIf you have any symptoms of COVID\, please stay home regardless of test results\nMasks and hand sanitizer will be available at the venue\nXenia supports the use of PPE and other personal protective measures. Please feel free to bring your own protective supports as needed.\n\nThanks to our Partners\nThe Beverley School \nThanks To Our Funders\nThe Canada Council for the Arts\, The Ontario Arts Council\, The Toronto Arts Council\, The Government of Canada\, The Azrieli Foundation\, TD\, a donation in honour of the R.S. Williams & Sons Company Ltd.\, and Xenia Concerts donors. \nMore About Xenia Private Concerts\nXenia Concerts is always happy to organise an event for the neurodiversity and disability communities at a private space! Want to know if we can make an appearance with your organization? Get in touch by sending us an e-mail at info@xeniaconcerts.com \nSupport Concerts Like This One\nDonate via CanadaHelps
URL:https://xeniaconcerts.com/event/april-9-private-concert-xenia-concerts-presents-asd-band-at-the-beverly-school/
CATEGORIES:Past Events
ATTACH;FMTTYPE=image/jpeg:https://xeniaconcerts.com/wp-content/uploads/2025/04/ASD-Band_On-stage_1.jpg
END:VEVENT
BEGIN:VEVENT
DTSTART;VALUE=DATE:20250426
DTEND;VALUE=DATE:20250427
DTSTAMP:20260421T214546
CREATED:20241113T153658Z
LAST-MODIFIED:20250428T153112Z
UID:5665-1745625600-1745711999@xeniaconcerts.com
SUMMARY:April 26 2025 - Xenia Concerts and TO Live Present: Joy Lapps & Quatuor Despax
DESCRIPTION:RSVP 11AM\nConcert Description\nInternationally lauded artist and composer Joy Lapps joins forces with acclaimed string quartet\, Quatuor Despax! Join us on a musical cross-genre journey featuring Afro-Caribbean jazz steelpan and string quartet! This Adaptive performance is presented in a family-friendly\, inclusive environment that embraces neurodiversity and disability. See below for a complete list of accessibility features. \nLocation\nMeridian Hall \n1 Front Street East\, Toronto \nLower Lobby \nDOWNLOAD THE VENUE GUIDE \n  \nFeatured Artists\nJoy Lapps\, steelpan \nQuatuor Despax (Cendrine and Jean Despax\, violins; Maxime Despax\, viola\, Valérie Despax\, cello) \nConcert Accessibility Features\n\nAll expressions welcome! Feel free to make noise\, get up\, or stim!\nWheelchair accessible venue\nGender-neutral\, wheelchair accessible washrooms\nPDF Venue Guide \nAccessible PDF concert programs and listening guide emailed before event\nFidget toys and noise-cancelling earmuffs can be provided upon request (please bring your own if you can)\nFlexible seating and a separate area for breaks\nStretch breaks\nVisual schedule\nXenia Concerts can also provide live ASL interpretation at our events upon request\, given sufficient lead time. If you would like to request ASL interpretation\, please send a request to kaylce.carter@xeniaconcerts.com at least ten (10) days before the event.\n\nQuestions and Accessibility Requests\nXenia Concerts is committed to meeting the needs of our audience to the best of our abilities. If you have a question or request\, we really do want to hear from you! \nIf you have accessibility-related questions or requests\, please contact Kaylce at kaylce.carter@xeniaconcerts.com \nFor ticketing and general inquiries\, contact Xenia Concerts info@xeniaconcerts.com \nTo contact Xenia by phone\, call Rory at 647-896-8295. \nCOVID Safety\n\nMasks are recommended\nIf you have any symptoms of COVID\, please stay home regardless of test results\nMasks and hand sanitizer will be available at the venue\nXenia supports the use of PPE and other personal protective measures. Please feel free to bring your own protective supports as needed.\n\nThanks to our Partners\nTO Live\, Alzheimer Society of Toronto\, One Health Partners\, Autism Ontario\, Autism Canada\, and The Lotus Centre \nThanks To Our Funders\nThe Canada Council for the Arts\, The Ontario Arts Council\, The Toronto Arts Council\, The Government of Canada\, The Azrieli Foundation\, Unity for Autism\, The George C. Hunt Family Foundation\, in honour of R.S. Williams & Sons Company Ltd.\, TD\, and Xenia Concerts donors. \nTicket Reimbursement\nXenia Concerts collects a $5 deposit for each attendee to reserve your spot at the concert. To eliminate financial barriers to attendance\, we will refund your ticket when you arrive at the concert. If you wish to donate to Xenia Concerts\, please select the “donation” option and enter the amount you would like to contribute.
URL:https://xeniaconcerts.com/event/april-26-2025-11am-xenia-concerts-presents-an-adaptive-concert-with-joy-lapps-quatuor-despax/
LOCATION:Meridian Hall\, 1 Front Street East\, Toronto\, Ontario\, M5E 1B2\, Canada
CATEGORIES:Past Events
ATTACH;FMTTYPE=image/jpeg:https://xeniaconcerts.com/wp-content/uploads/2024/08/JoyLappsPromo3-Joy-Lapps-Lewis-scaled-e1723476203109.jpg
END:VEVENT
END:VCALENDAR