BEGIN:VCALENDAR
VERSION:2.0
PRODID:-//Xenia Concerts - ECPv6.15.20//NONSGML v1.0//EN
CALSCALE:GREGORIAN
METHOD:PUBLISH
X-ORIGINAL-URL:https://xeniaconcerts.com
X-WR-CALDESC:Events for Xenia Concerts
REFRESH-INTERVAL;VALUE=DURATION:PT1H
X-Robots-Tag:noindex
X-PUBLISHED-TTL:PT1H
BEGIN:VTIMEZONE
TZID:America/Toronto
BEGIN:DAYLIGHT
TZOFFSETFROM:-0500
TZOFFSETTO:-0400
TZNAME:EDT
DTSTART:20240310T070000
END:DAYLIGHT
BEGIN:STANDARD
TZOFFSETFROM:-0400
TZOFFSETTO:-0500
TZNAME:EST
DTSTART:20241103T060000
END:STANDARD
BEGIN:DAYLIGHT
TZOFFSETFROM:-0500
TZOFFSETTO:-0400
TZNAME:EDT
DTSTART:20250309T070000
END:DAYLIGHT
BEGIN:STANDARD
TZOFFSETFROM:-0400
TZOFFSETTO:-0500
TZNAME:EST
DTSTART:20251102T060000
END:STANDARD
BEGIN:DAYLIGHT
TZOFFSETFROM:-0500
TZOFFSETTO:-0400
TZNAME:EDT
DTSTART:20260308T070000
END:DAYLIGHT
BEGIN:STANDARD
TZOFFSETFROM:-0400
TZOFFSETTO:-0500
TZNAME:EST
DTSTART:20261101T060000
END:STANDARD
END:VTIMEZONE
BEGIN:VEVENT
DTSTART;VALUE=DATE:20250308
DTEND;VALUE=DATE:20250309
DTSTAMP:20260421T232645
CREATED:20240812T150035Z
LAST-MODIFIED:20250325T172822Z
UID:5638-1741392000-1741478399@xeniaconcerts.com
SUMMARY:March 8 2025 - Xenia Concert and TO Live Present: Pantayo Kulitang!
DESCRIPTION:RSVP 11AM\n  \nRSVP 2PM\nConcert Description\nJoin us on Saturday\, March 8th for a family-friendly Adaptive Concert with Pantayo! This concert is designed to support the needs of neurodivergent and disabled attendees. Meridian Arts Centre is also accessible for wheelchair users. For these concerts\, we have partnered with the Canadian National Institute for the Blind to offer additional accommodations for attendees who are Blind and partially sighted. A tactile tour is open to all attendees 30 minutes before the performance.  \nPantayo are queer Filipinx kulintang gong punks based in Tkaronto\, Canada. The ensemble combines traditional Kulintang music from the Philippines with contemporary influences and experimental sounds. In addition to the kulintang\, the band also incorporates vocals\, drums\, synths\, and other instruments into their music and performances. Their unique sound blends traditional elements with modern styles like R&B\, pop\, punk\, and electronic music. Pantayo’s music is not only a reflection of their cultural heritage but also a testament to the creativity and diversity of the Canadian music landscape. You are welcome to bring the entire family! Xenia Concerts welcomes all listeners. \nLocation\nMeridian Arts Centre \n5040 Yonge Street\, North York \nStudio Theatre \nDOWNLOAD THE VENUE GUIDE \nFeatured Artists\nPantayo: \nEirene Cloma – Vocals\, Bass\, Guitar  \nMichelle Cruz – Vocals\, Agong\, Synth  \nJoanna Delos Reyes – Vocals  \nKat Estacio – Agong\, Kulintang\, Sarunay\, Synth\, Drum Programming\, Auxillary percussion  \nKatrina Estacio – Kulintang\, Sarunay\, Synth\, Auxillary percussion  \nConcert Accessibility Features\n\nAll expressions welcome! Feel free to make noise\, get up\, or stim!\nWheelchair accessible venue\nGender-neutral\, wheelchair accessible washrooms\nVenue Guide\nAccessible PDF concert programs and listening guide emailed before event\nFidget toys and noise-cancelling earmuffs can be provided upon request (please bring your own if you can)\nFlexible seating and a separate area for breaks\nStretch breaks and freedom of movement\nVisual schedule\nSighted Guides \nTactile tour\n\nAccessibility Statement\nAll Xenia Concerts are designed to welcome and support neurodivergent and disabled attendees to the best of our ability. For these concerts\, we have collaborated with the CNIB to offer additional accommodations for Blind and partially sighted attendees. A tactile tour of the stage and performance space is available to all attendees 30 minutes before each performance. Xenia volunteers are available to act as sighted guides before and after the performance. Guide dogs are welcome. \nASL interpretation is available upon request. Please submit your request to kaylce.carter@xeniaconcerts.com at least ten days in advance of the event. \nXenia Concerts is committed to meeting the needs of our audience. If you have a question or request\, we want to hear from you! \nIf you have accessibility-related questions or requests\, please contact Kaylce at kaylce.carter@xeniaconcerts.com. \nFor ticketing and general inquiries\, contact Paolo at paolo.griffin@xeniaconcerts.com. \nTo contact Xenia by phone\, call Rory at 647-441-7543. \nCOVID Safety\n\nMasks are recommended\nIf you have any symptoms of COVID\, please stay home regardless of test results\nMasks and hand sanitizer will be available at the venue\nXenia supports the use of PPE and other personal protective measures. Please feel free to bring your own protective supports as needed.\n\nThanks to our Partners\nTO Live\, CNIB\, Alzheimer Society of Toronto\, One Health Partners\, Autism Ontario\, Autism Canada\, and The Lotus Centre \nThanks To Our Funders\nThe Canada Council for the Arts\, The Ontario Arts Council\, The Toronto Arts Council\, The Government of Canada\, The Azrieli Foundation\, Unity for Autism\, The George C. Hunt Family Foundation\, in honour of R.S. Williams & Sons Company Ltd.\, TD\, and Xenia Concerts donors. \nTicket Reimbursement\nXenia Concerts collects a $5 deposit for each attendee to reserve your spot at the concert. To eliminate financial barriers to attendance\, we will refund your ticket when you arrive at the concert. If you wish to donate to Xenia Concerts\, please select the “donation” option and enter the amount you would like to contribute.
URL:https://xeniaconcerts.com/event/march-8-2025-11am-xenia-concerts-presents-an-adaptive-concert-with-pantayo/
LOCATION:Meridian Arts Centre\, 5040 Yonge St.\, Toronto\, Ontario\, M2N 6R8\, Canada
CATEGORIES:Past Events
ATTACH;FMTTYPE=image/jpeg:https://xeniaconcerts.com/wp-content/uploads/2024/08/Pantayo-9-1-by-Felice-Trinidad-Pantayo-Kulintang-scaled.jpg
END:VEVENT
END:VCALENDAR