BEGIN:VCALENDAR
VERSION:2.0
PRODID:-//Xenia Concerts - ECPv6.15.20//NONSGML v1.0//EN
CALSCALE:GREGORIAN
METHOD:PUBLISH
X-ORIGINAL-URL:https://xeniaconcerts.com
X-WR-CALDESC:Events for Xenia Concerts
REFRESH-INTERVAL;VALUE=DURATION:PT1H
X-Robots-Tag:noindex
X-PUBLISHED-TTL:PT1H
BEGIN:VTIMEZONE
TZID:America/Toronto
BEGIN:DAYLIGHT
TZOFFSETFROM:-0500
TZOFFSETTO:-0400
TZNAME:EDT
DTSTART:20230312T070000
END:DAYLIGHT
BEGIN:STANDARD
TZOFFSETFROM:-0400
TZOFFSETTO:-0500
TZNAME:EST
DTSTART:20231105T060000
END:STANDARD
BEGIN:DAYLIGHT
TZOFFSETFROM:-0500
TZOFFSETTO:-0400
TZNAME:EDT
DTSTART:20240310T070000
END:DAYLIGHT
BEGIN:STANDARD
TZOFFSETFROM:-0400
TZOFFSETTO:-0500
TZNAME:EST
DTSTART:20241103T060000
END:STANDARD
BEGIN:DAYLIGHT
TZOFFSETFROM:-0500
TZOFFSETTO:-0400
TZNAME:EDT
DTSTART:20250309T070000
END:DAYLIGHT
BEGIN:STANDARD
TZOFFSETFROM:-0400
TZOFFSETTO:-0500
TZNAME:EST
DTSTART:20251102T060000
END:STANDARD
END:VTIMEZONE
BEGIN:VEVENT
DTSTART;TZID=America/Toronto:20241102T110000
DTEND;TZID=America/Toronto:20241102T120000
DTSTAMP:20260422T052620
CREATED:20240729T182506Z
LAST-MODIFIED:20241114T155802Z
UID:5598-1730545200-1730548800@xeniaconcerts.com
SUMMARY:November 2 – Xenia Concerts presents: The Thalea String Quartet!
DESCRIPTION:RSVP 11AM\n  \nRSVP 2PM\nConcert Description\nJoin us in welcoming back the Thalea Quartet to the Xenia stage! The Thalea String Quartet brings their signature vibrancy and emotional commitment to dynamic performances that reflect the past\, present\, and the future of the string quartet repertoire while celebrating diverse musical traditions from around the world and fueled by the belief that chamber music is a powerful force for building community and human connection. \nLocation\nMeridian Hall \n1 Front Street East\, Toronto \nLower Lobby \nDOWNLOAD THE VENUE GUIDE \n  \nFeatured Artists\nThalea Quartet: \nChristopher Whitley\, violin \nKumiko Sakamoto\, violin \nLauren Spaulding\, viola \nAlex Cox\, cello \nProgram\nSelected Chorales – J.S. Bach \nString Quartet in C major\, Op. 33 No. 3 “The Bird”: iv. Finale – Joseph Haydn \nSunrise of the Planetary Dream Collector (excerpt) – Terry Riley \nSomething Golden – Andrew Yee \nOn Ecofeminism – Alison Zeig \nMoon River – Henry Mancini \nString Quartet in C major\, Op. 33 No. 3 “The Bird”: iii. Scherzo – Joseph Haydn \nSweet Child of Mine – Guns n Roses \nConcert Accessibility Features\n\nAll expressions welcome! Feel free to make noise\, get up\, or stim!\nWheelchair accessible venue\nGender-neutral\, wheelchair accessible washrooms\nPDF Venue Guide \nTherapy Dogs!\nAccessible PDF concert programs and listening guide emailed before event\nFidget toys and noise-cancelling earmuffs can be provided upon request (please bring your own if you can)\nFlexible seating and a separate area for breaks\nStretch breaks\nVisual schedule\nXenia Concerts can also provide live ASL interpretation at our events upon request\, given sufficient lead time. If you would like to request ASL interpretation\, please send a request to kaylce.carter@xeniaconcerts.com at least ten (10) days before the event.\n\nQuestions and Accessibility Requests\nXenia Concerts is committed to meeting the needs of our audience to the best of our abilities. If you have a question or request\, we really do want to hear from you! \nIf you have accessibility-related questions or requests\, please contact Kaylce at kaylce.carter@xeniaconcerts.com. \nFor ticketing and general inquiries\, contact Xenia Concerts info@xeniaconcerts.com \nTo contact Xenia by phone\, call Rory at 647-896-8295. \nCOVID Safety\n\nMasks are recommended\nIf you have any symptoms of COVID\, please stay home regardless of test results\nMasks and hand sanitizer will be available at the venue\nXenia supports the use of PPE and other personal protective measures. Please feel free to bring your own protective supports as needed.\n\nThanks to our Partners\nTO Live\, Alzheimer Society of Toronto\, One Health Partners\, Autism Ontario\, Autism Canada\, and The Lotus Centre \nThanks To Our Funders\nThe Canada Council for the Arts\, The Ontario Arts Council\, The Toronto Arts Council\, The Government of Canada\, The Azrieli Foundation\, Unity for Autism\, The George C. Hunt Family Foundation\, in honour of R.S. Williams & Sons Company Ltd.\, and Xenia Concerts donors. \nTicket Reimbursement\nXenia Concerts collects a $5 deposit for each attendee to reserve your spot at the concert. To eliminate financial barriers to attendance\, we will refund your ticket when you arrive at the concert. If you wish to donate to Xenia Concerts\, please select the “donation” option and enter the amount you would like to contribute.
URL:https://xeniaconcerts.com/event/xenia-concerts-presents-an-adaptive-concert-with-the-thalea-quartet/
LOCATION:Meridian Hall\, 1 Front Street East\, Toronto\, Ontario\, M5E 1B2\, Canada
CATEGORIES:Past Events
ATTACH;FMTTYPE=image/jpeg:https://xeniaconcerts.com/wp-content/uploads/2024/07/DSCF0146-Curtis-Perry-Chris-Whitley-scaled.jpg
END:VEVENT
BEGIN:VEVENT
DTSTART;TZID=America/Toronto:20241107T130000
DTEND;TZID=America/Toronto:20241107T140000
DTSTAMP:20260422T052620
CREATED:20240729T182615Z
LAST-MODIFIED:20241114T155820Z
UID:5854-1730984400-1730988000@xeniaconcerts.com
SUMMARY:Nov. 7 Private Concert - Xenia Concerts @ The Beverley School
DESCRIPTION:Concert Description\nXenia Concerts joins Michael Bridge & Beth Silver at The Beverley School with a family-friendly concert that embraces neurodiversity and disability! Beth and Michael will perform a set of classics\, folk-inspired music\, and more!  \nThis concert has been designed to be enjoyable and accessible for neurodivergent listeners\, those with disabilities\, and their families and caregivers. \nFeaturing\nBeth Silver\, cello \nMichael Bridge\, accordion \nCOVID Safety\n\nMasks are recommended\nIf you have any symptoms of COVID\, please stay home regardless of test results\nMasks and hand sanitizer will be available at the venue\nXenia supports the use of PPE and other personal protective measures. Please feel free to bring your own protective supports as needed.\n\nThanks to our Partners\nThe Beverley School \nThanks To Our Funders\nThe Canada Council for the Arts\, The Ontario Arts Council\, The Toronto Arts Council\, The Government of Canada\, The Azrieli Foundation\, Unity for Autism\, a donation in honour of R.S. Williams & Sons Company Ltd.\, and Xenia Concerts donors. \nMore About Xenia Private Concerts\nXenia Concerts is always happy to organise an event for the neurodiversity and disability communities at a private space! Want to know if we can make an appearance with your organization? Get in touch by sending us an e-mail at info@xeniaconcerts.com \nSupport Concerts Like This One\nDonate via CanadaHelps
URL:https://xeniaconcerts.com/event/school-concert-xenia-concerts-the-beverley-school/
LOCATION:The Beverley School\, 64 Baldwin St.\, Toronto\, Ontario\, Canada
CATEGORIES:Past Events
ATTACH;FMTTYPE=image/jpeg:https://xeniaconcerts.com/wp-content/uploads/2024/10/DSC_1715.jpg
END:VEVENT
BEGIN:VEVENT
DTSTART;TZID=America/Toronto:20241124T110000
DTEND;TZID=America/Toronto:20241124T120000
DTSTAMP:20260422T052620
CREATED:20240729T182755Z
LAST-MODIFIED:20241125T162435Z
UID:5685-1732446000-1732449600@xeniaconcerts.com
SUMMARY:November 24 2024 - Xenia Concerts Presents: PhoeNX Ensemble!
DESCRIPTION:RSVP\nConcert Description\nPhoeNX Ensemble is a cross-cultural mixed chamber ensemble which blends traditional East Asian and Western instruments. This multi-layered instrumental palette merges together the rich musical histories and influences of the East and West\, giving rise to an altogether new canvas of limitless sound potential and musical story-telling. This Adaptive performance is presented in a family-friendly\, inclusive environment that embraces neurodiversity and disability. See below for a complete list of accessibility features. \nLocation\nFlato Markham Theatre \n171 Town Centre Blvd\, Markham \nMain Hall \nDOWNLOAD THE VENUE GUIDE \n  \nFeatured Artists\nPhoeNX Ensemble \nSanya Eng\, harp \nPatty Chen\, erhu \nRyan Scott\, percussion \nHayley Ng\, dance \nConcert Accessibility Features\n\nAll expressions welcome! Feel free to make noise\, get up\, or stim!\nWheelchair accessible venue\nGender-neutral\, wheelchair accessible washrooms\nPDF Venue Guide \nAccessible PDF concert programs and listening guide emailed before event\nFidget toys and noise-cancelling earmuffs can be provided upon request (please bring your own if you can)\nFlexible seating and a separate area for breaks\nStretch breaks\nVisual schedule\nTactile Tour: Tactile tours give audience members the chance to touch some of the instruments that will be part of the concert! A tactile tour is open to all attendees 30 minutes before the performance. \nXenia Concerts can also provide live ASL interpretation at our events upon request\, given sufficient lead time. If you would like to request ASL interpretation\, please send a request to kaylce.carter@xeniaconcerts.com at least ten (10) days before the event.\n\nQuestions and Accessibility Requests\nXenia Concerts is committed to meeting the needs of our audience to the best of our abilities. If you have a question or request\, we really do want to hear from you! \nIf you have accessibility-related questions or requests\, please contact Kaylce at kaylce.carter@xeniaconcerts.com \nFor ticketing and general inquiries\, contact Xenia Concerts info@xeniaconcerts.com \nTo contact Xenia by phone\, call Rory at 647-896-8295. \nCOVID Safety\n\nMasks are recommended\nIf you have any symptoms of COVID\, please stay home regardless of test results\nMasks and hand sanitizer will be available at the venue\nXenia supports the use of PPE and other personal protective measures. Please feel free to bring your own protective supports as needed.\n\nThanks to our Partners\nMarkham Flato Theatre\, TO Live\, Alzheimer Society of Toronto\, One Health Partners\, Autism Ontario\, Autism Canada\, and The Lotus Centre \nThanks To Our Funders\nThe Canada Council for the Arts\, The Ontario Arts Council\, The Toronto Arts Council\, The Government of Canada\, The Azrieli Foundation\, Unity for Autism\, The George C. Hunt Family Foundation\, in honour of R.S. Williams & Sons Company Ltd.\, and Xenia Concerts donors. \nTicket Reimbursement\nXenia Concerts collects a $5 deposit for each attendee to reserve your spot at the concert. To eliminate financial barriers to attendance\, we will refund your ticket when you arrive at the concert. If you wish to donate to Xenia Concerts\, please select the “donation” option and enter the amount you would like to contribute.
URL:https://xeniaconcerts.com/event/november-24-2024-11am-xenia-concerts-presents-an-adaptive-concert-with-phoenx-ensemble/
LOCATION:Flato Markham Theatre\, 171 Town Centre Boulevard\, Markham\, ON\, L3R 8G5\, Canada
CATEGORIES:Past Events
ATTACH;FMTTYPE=image/jpeg:https://xeniaconcerts.com/wp-content/uploads/2024/08/PhoeNX-Composite.jpg
END:VEVENT
END:VCALENDAR