BEGIN:VCALENDAR
VERSION:2.0
PRODID:-//Xenia Concerts - ECPv6.15.20//NONSGML v1.0//EN
CALSCALE:GREGORIAN
METHOD:PUBLISH
X-WR-CALNAME:Xenia Concerts
X-ORIGINAL-URL:https://xeniaconcerts.com
X-WR-CALDESC:Events for Xenia Concerts
REFRESH-INTERVAL;VALUE=DURATION:PT1H
X-Robots-Tag:noindex
X-PUBLISHED-TTL:PT1H
BEGIN:VTIMEZONE
TZID:America/Toronto
BEGIN:DAYLIGHT
TZOFFSETFROM:-0500
TZOFFSETTO:-0400
TZNAME:EDT
DTSTART:20230312T070000
END:DAYLIGHT
BEGIN:STANDARD
TZOFFSETFROM:-0400
TZOFFSETTO:-0500
TZNAME:EST
DTSTART:20231105T060000
END:STANDARD
BEGIN:DAYLIGHT
TZOFFSETFROM:-0500
TZOFFSETTO:-0400
TZNAME:EDT
DTSTART:20240310T070000
END:DAYLIGHT
BEGIN:STANDARD
TZOFFSETFROM:-0400
TZOFFSETTO:-0500
TZNAME:EST
DTSTART:20241103T060000
END:STANDARD
BEGIN:DAYLIGHT
TZOFFSETFROM:-0500
TZOFFSETTO:-0400
TZNAME:EDT
DTSTART:20250309T070000
END:DAYLIGHT
BEGIN:STANDARD
TZOFFSETFROM:-0400
TZOFFSETTO:-0500
TZNAME:EST
DTSTART:20251102T060000
END:STANDARD
END:VTIMEZONE
BEGIN:VEVENT
DTSTART;TZID=America/Toronto:20240225T110000
DTEND;TZID=America/Toronto:20240225T120000
DTSTAMP:20260422T183708
CREATED:20230811T170034Z
LAST-MODIFIED:20240227T172823Z
UID:4458-1708858800-1708862400@xeniaconcerts.com
SUMMARY:Feb. 25 2024 @ 11AM – Xenia Concerts presents in partnership with TO Live: James Baley\, Kyla Charter\, & Phoenix the Fire
DESCRIPTION:RSVP\nConcert Description\nWe’re excited to welcoming back Kyla Charter\, James Baley\, and Phoenix the Fire to the Xenia Concerts stage! Blending her soulful vocals with razor-sharp rock tonalities and pop sensibilities\, Kyla Charter is a singer-songwriter\, vocalist\, and rhythm guitar player. James Baley is a Juno-winning music creator and multi-disciplinary artist whose radiant energy continues to establish him as a distinctive and magnetizing performer. Sharing compelling stories through his vulnerable lyrics\, James combines his R&B\, gospel\, and electronic influences to create soulful reflections and exuberant dance tracks. A Tkaronto-based actor\, Gaitrie Killings is a theatre maker who develops facial expressions and body languages to bring Deaf/hearing actors to work together on the stage in physical theatre styles.  \nThis is a rare opportunity to see these stellar performers together on stage with musical ASL interpretation\, presented in a family-friendly style that embraces neurodiversity and disability. \nLocation\nMeridian Hall \n1 Front Street East\, Toronto \nLower Lobby \nDOWNLOAD THE VENUE GUIDE \nFeaturing\nJames Baley\, vocals \nKyla Charter\, vocals and guitar \nAdrian Hogan\, keyboard \nStacey Shopsowitz\, bass \nIsaiah Gibbons\, drums \nPhoenix the Fire\, Musical ASL (Gaitrie Killings\, ASL performer; Amanda Hyde and Savannah Tomev\, ASL interpreters) \nConcert Accessibility Features\n\nAll expressions welcome! Feel free to make noise\, get up\, or stim!\nWheelchair accessible venue\nGender-neutral\, wheelchair accessible washrooms\nMusical ASL Interpretation\nPDF Venue Guide \nAccessible PDF concert programs and listening guide emailed before event\nFidget toys and noise-cancelling earmuffs can be provided upon request (please bring your own if you can)\nFlexible seating and a separate area for breaks\nStretch breaks\nVisual schedule\nTherapy Dogs!\n\nQuestions and Accessibility Requests\nXenia Concerts is committed to meeting the needs of our audience to the best of our abilities. If you have a question or request\, we really do want to hear from you! \nIf you have accessibility-related questions or requests\, please contact Kayla at kayla.carter@xeniaconcerts.com. \nFor ticketing and general inquiries\, contact Paolo at paolo.griffin@xeniaconcerts.com. \nTo contact Xenia by phone\, call Rory at 647-896-8295. \nCovid Safety Measures\n\nMasks are recommended\nIf you have any symptoms of COVID\, please stay home regardless of test results\n\nThanks to our Partners\nTO Live\, The Lotus Centre\, Autism Canada\, and One Health Partners \nThanks To Our Funders\nThe Canada Council for the Arts\, The Ontario Arts Council\, The Toronto Arts Council\, The Government of Canada\, The Azrieli Foundation\, a donation in honour of the R.S. Williams & Sons Company Ltd.\, and Xenia Concerts donors. \nTicket Reimbursement\nXenia Concerts collects a $5 deposit for each attendee to reserve your spot at the concert. To eliminate financial barriers to attendance\, we will refund your ticket when you arrive at the concert. If you wish to donate to Xenia Concerts\, please select the “donation” option and enter the amount you would like to contribute.
URL:https://xeniaconcerts.com/event/feb-25-2024-xenia-concerts-presents-in-partnership-with-to-live-james-bailey-kyla-charter/
LOCATION:Meridian Hall\, 1 Front Street East\, Toronto\, Ontario\, M5E 1B2\, Canada
CATEGORIES:Past Events
ATTACH;FMTTYPE=image/png:https://xeniaconcerts.com/wp-content/uploads/2023/08/Untitled-design-1.png
END:VEVENT
BEGIN:VEVENT
DTSTART;TZID=America/Toronto:20240225T140000
DTEND;TZID=America/Toronto:20240225T150000
DTSTAMP:20260422T183708
CREATED:20230811T170512Z
LAST-MODIFIED:20240227T172817Z
UID:4778-1708869600-1708873200@xeniaconcerts.com
SUMMARY:Feb. 25 2024 @ 2PM – Xenia Concerts presents in partnership with TO Live: James Baley\, Kyla Charter\, & Phoenix the Fire
DESCRIPTION:RSVP\nConcert Description\nWe’re excited to be welcoming back Kyla Charter and James Baley to the Xenia Concerts stage! Blending her soulful vocals with razor-sharp rock tonalities and pop sensibilities\, Kyla Charter is a singer-songwriter\, vocalist\, and rhythm guitar player. James Baley is a Juno-winning music creator and multi-disciplinary artist whose radiant energy continues to establish him as a distinctive and magnetizing performer. Sharing compelling stories through his vulnerable lyrics\, James combines his R&B\, gospel\, and electronic influences to create soulful reflections and exuberant dance tracks. \nThis is a rare opportunity to see these two stellar performers together on stage with musical ASL interpretation\, presented in a family-friendly style that embraces neurodiversity and disability. \nLocation\nMeridian Hall \n1 Front Street East\, Toronto \nLower Lobby \nDOWNLOAD THE VENUE GUIDE \nFeaturing\nJames Baley\, vocals \nKyla Charter\, vocals and guitar \nAdrian Hogan\, keyboard \nStacey Shopsowitz\, bass \nIsaiah Gibbons\, drums \nPhoenix the Fire\, Musical ASL (Gaitrie Killings\, ASL performer; Amanda Hyde and Savannah Tomev\, ASL interpreters) \nConcert Accessibility Features\n\nAll expressions welcome! Feel free to make noise\, get up\, or stim!\nWheelchair accessible venue\nGender-neutral\, wheelchair accessible washrooms\nMusical ASL Interpretation\nPDF Venue Guide \nAccessible PDF concert programs and listening guide emailed before event\nFidget toys and noise-cancelling earmuffs can be provided upon request (please bring your own if you can)\nFlexible seating and a separate area for breaks\nStretch breaks\nVisual schedule\n\nQuestions and Accessibility Requests\nXenia Concerts is committed to meeting the needs of our audience to the best of our abilities. If you have a question or request\, we really do want to hear from you! \nIf you have accessibility-related questions or requests\, please contact Kayla at kayla.carter@xeniaconcerts.com. \nFor ticketing and general inquiries\, contact Paolo at paolo.griffin@xeniaconcerts.com. \nTo contact Xenia by phone\, call Rory at 647-896-8295. \nCovid Safety Measures\n\nMasks are recommended\nIf you have any symptoms of COVID\, please stay home regardless of test results\n\nThanks to our Partners\nTO Live\, The Lotus Centre\, Autism Canada\, and One Health Partners \nThanks To Our Funders\nThe Canada Council for the Arts\, The Ontario Arts Council\, The Toronto Arts Council\, The Government of Canada\, The Azrieli Foundation\, a donation in honour of the R.S. Williams & Sons Company Ltd.\, and Xenia Concerts donors. \nTicket Reimbursement\nXenia Concerts collects a $5 deposit for each attendee to reserve your spot at the concert. To eliminate financial barriers to attendance\, we will refund your ticket when you arrive at the concert. If you wish to donate to Xenia Concerts\, please select the “donation” option and enter the amount you would like to contribute.
URL:https://xeniaconcerts.com/event/feb-25-2024-2pm-xenia-concerts-presents-in-partnership-with-to-live-james-baley-kyla-charter/
LOCATION:Meridian Hall\, 1 Front Street East\, Toronto\, Ontario\, M5E 1B2\, Canada
CATEGORIES:Past Events
ATTACH;FMTTYPE=image/jpeg:https://xeniaconcerts.com/wp-content/uploads/2023/08/Phoenix-the-Fire-Logo.jpg
END:VEVENT
BEGIN:VEVENT
DTSTART;TZID=America/Toronto:20240229T130000
DTEND;TZID=America/Toronto:20240229T140000
DTSTAMP:20260422T183708
CREATED:20230811T175911Z
LAST-MODIFIED:20240312T133530Z
UID:5258-1709211600-1709215200@xeniaconcerts.com
SUMMARY:Feb 29 – PRIVATE – Xenia Concerts presents Daniel Go & Tim Beattie at Sunny View School!
DESCRIPTION:Concert Description\nXenia Concerts makes a private appearance at Sunny View School with a family-friendly concert that embraces neurodiversity and disability! This collaboration between Xenia Concerts and Sunny View School provides an inspiring musical experience to the organization’s attendees!  \nThis concert has been designed to be enjoyable and accessible for neurodivergent listeners\, those with disabilities\, and their families and caregivers. \nFeaturing\nDaniel Hamin Go\, cello \nTimothy Beattie\, guitar \nThanks to our Partners\nSunny View School \nThanks To Our Funders\nThe Canada Council for the Arts\, The Ontario Arts Council\, The Toronto Arts Council\, The Government of Canada\, The Azrieli Foundation\, a donation in honour of the R.S. Williams & Sons Company Ltd.\, and Xenia Concerts donors. \nMore About Xenia Private Concerts\nXenia Concerts is always happy to organise an event for the neurodiversity and disability communities at a private space! Want to know if we can make an appearance with your organization? Get in touch by sending us an e-mail at info@xeniaconcerts.com \nSupport Concerts Like This One\nDonate via CanadaHelps
URL:https://xeniaconcerts.com/event/private-xenia-concerts-presents-daniel-go-tim-beattie-at-sunny-view-school/
LOCATION:Sunny View School\, 450 Blythwood Rd\, Toronto\, Ontario\, M4N 1A9\, Canada
CATEGORIES:Past Events
ATTACH;FMTTYPE=image/jpeg:https://xeniaconcerts.com/wp-content/uploads/2024/01/Daniel-and-Tim-Galleria-173-2.jpg
END:VEVENT
END:VCALENDAR