BEGIN:VCALENDAR
VERSION:2.0
PRODID:-//Xenia Concerts - ECPv6.15.20//NONSGML v1.0//EN
CALSCALE:GREGORIAN
METHOD:PUBLISH
X-WR-CALNAME:Xenia Concerts
X-ORIGINAL-URL:https://xeniaconcerts.com
X-WR-CALDESC:Events for Xenia Concerts
REFRESH-INTERVAL;VALUE=DURATION:PT1H
X-Robots-Tag:noindex
X-PUBLISHED-TTL:PT1H
BEGIN:VTIMEZONE
TZID:America/Toronto
BEGIN:DAYLIGHT
TZOFFSETFROM:-0500
TZOFFSETTO:-0400
TZNAME:EDT
DTSTART:20240310T070000
END:DAYLIGHT
BEGIN:STANDARD
TZOFFSETFROM:-0400
TZOFFSETTO:-0500
TZNAME:EST
DTSTART:20241103T060000
END:STANDARD
BEGIN:DAYLIGHT
TZOFFSETFROM:-0500
TZOFFSETTO:-0400
TZNAME:EDT
DTSTART:20250309T070000
END:DAYLIGHT
BEGIN:STANDARD
TZOFFSETFROM:-0400
TZOFFSETTO:-0500
TZNAME:EST
DTSTART:20251102T060000
END:STANDARD
BEGIN:DAYLIGHT
TZOFFSETFROM:-0500
TZOFFSETTO:-0400
TZNAME:EDT
DTSTART:20260308T070000
END:DAYLIGHT
BEGIN:STANDARD
TZOFFSETFROM:-0400
TZOFFSETTO:-0500
TZNAME:EST
DTSTART:20261101T060000
END:STANDARD
END:VTIMEZONE
BEGIN:VEVENT
DTSTART;TZID=America/Toronto:20251210T173000
DTEND;TZID=America/Toronto:20251210T183000
DTSTAMP:20260420T132956
CREATED:20250602T070132Z
LAST-MODIFIED:20251212T163448Z
UID:6531-1765387800-1765391400@xeniaconcerts.com
SUMMARY:PRIVATE EVENT - December 10 2025 – VC2 Cello Duo @ Safehaven!
DESCRIPTION:VC2 Cell Duo returns to Xenia Concerts with a concert of classical old and new\, in partnership with Safehaven!
URL:https://xeniaconcerts.com/event/private-event-december-10-2025-vc2-cello-duo-safehaven/
LOCATION:ON
CATEGORIES:Past Events
ATTACH;FMTTYPE=image/jpeg:https://xeniaconcerts.com/wp-content/uploads/2023/04/VC2_-promo1-scaled-1.jpg
END:VEVENT
END:VCALENDAR