BEGIN:VCALENDAR
VERSION:2.0
PRODID:-//Xenia Concerts - ECPv6.15.20//NONSGML v1.0//EN
CALSCALE:GREGORIAN
METHOD:PUBLISH
X-ORIGINAL-URL:https://xeniaconcerts.com
X-WR-CALDESC:Events for Xenia Concerts
REFRESH-INTERVAL;VALUE=DURATION:PT1H
X-Robots-Tag:noindex
X-PUBLISHED-TTL:PT1H
BEGIN:VTIMEZONE
TZID:America/Toronto
BEGIN:DAYLIGHT
TZOFFSETFROM:-0500
TZOFFSETTO:-0400
TZNAME:EDT
DTSTART:20240310T070000
END:DAYLIGHT
BEGIN:STANDARD
TZOFFSETFROM:-0400
TZOFFSETTO:-0500
TZNAME:EST
DTSTART:20241103T060000
END:STANDARD
BEGIN:DAYLIGHT
TZOFFSETFROM:-0500
TZOFFSETTO:-0400
TZNAME:EDT
DTSTART:20250309T070000
END:DAYLIGHT
BEGIN:STANDARD
TZOFFSETFROM:-0400
TZOFFSETTO:-0500
TZNAME:EST
DTSTART:20251102T060000
END:STANDARD
BEGIN:DAYLIGHT
TZOFFSETFROM:-0500
TZOFFSETTO:-0400
TZNAME:EDT
DTSTART:20260308T070000
END:DAYLIGHT
BEGIN:STANDARD
TZOFFSETFROM:-0400
TZOFFSETTO:-0500
TZNAME:EST
DTSTART:20261101T060000
END:STANDARD
END:VTIMEZONE
BEGIN:VEVENT
DTSTART;TZID=America/Toronto:20250927T110000
DTEND;TZID=America/Toronto:20250927T120000
DTSTAMP:20260420T214329
CREATED:20250530T060017Z
LAST-MODIFIED:20251007T131928Z
UID:6224-1758970800-1758974400@xeniaconcerts.com
SUMMARY:September 27 2025 - Xenia Concerts and TO Live Present: Eliana Cuevas & Jeremy Ledbetter with Phoenix the Fire
DESCRIPTION:RSVP 11 AM\nConcert Description\nJeremy Ledbetter & Eliana Cuevas feature a unique and very soulful take on Latin American music with a focus on Venezuelan folkloric repertoire. Their music is Jazz-infused\, acoustic\, and showcases original compositions and some of the most beloved Venezuelan traditional songs. Their performances are playful\, adventurous\, spontaneous and very moving at times\, allowing their audiences to experience a wide range of emotions.  \nThis is a rare opportunity to see these two stellar performers together on stage with musical ASL interpretation\, presented in a family-friendly style that embraces neurodiversity and disability. \nLocation\nMeridian Arts Centre \n5040 Yonge Street\, North York \nStudio Theatre \nDOWNLOAD THE VENUE GUIDE \nFeatured Artists\nEliana Cuevas\, voice \nJeremy Ledbetter\, piano \nPhoenix the Fire\, Musical ASL (Gaitrie Killings\, ASL performer) \nConcert Accessibility Features\n\nAll expressions welcome! Feel free to make noise\, get up\, or stim!\nWheelchair accessible venue\nGender-neutral\, wheelchair accessible washrooms\nVenue Guide\nAccessible PDF concert programs and listening guide emailed before event\nFidget toys and noise-cancelling earmuffs can be provided upon request (please bring your own if you can)\nFlexible seating and a separate area for breaks\nStretch breaks and freedom of movement\nVisual schedule\nTherapy dogs provided by One Health Partners\nASL Interpretation (including musical ASL)\n\nAccessibility Statement\nAll Xenia Concerts are designed to welcome and support neurodivergent and disabled attendees to the best of our ability.  \nXenia Concerts is committed to meeting the needs of our audience. If you have a question or request\, we want to hear from you! \nIf you have accessibility-related questions or requests\, please contact Kaylce at kaylce.carter@xeniaconcerts.com. \nFor ticketing and general inquiries\, contact Paolo at paolo.griffin@xeniaconcerts.com. \nTo contact Xenia by phone\, call Rory at 437-441-7543. \nHealth & Safety\n\nMasks are recommended\nIf you have are sick please stay home\nMasks and hand sanitizer will be available at the venue\nXenia supports the use of PPE and other personal protective measures. Please feel free to bring your own protective supports as needed.\n\nThanks to our Partners\nTO Live\, One Health Partners\, and The Lotus Centre \nThanks To Our Funders\nThe Canada Council for the Arts\, The Ontario Arts Council\, The Toronto Arts Council\, TD\, The Rotary Club of Toronto and its charitable foundation\, Toronto Foundation\, The Government of Canada\, The Azrieli Foundation\, Unity for Autism\, The George C. Hunt Family Foundation\, in honour of R.S. Williams & Sons Company Ltd.\, and Xenia Concerts donors. \nTicket Reimbursement\nXenia Concerts collects a $5 deposit for each attendee to reserve your spot at the concert. To eliminate financial barriers to attendance\, you may ask for a refund on your ticket when you arrive at the concert. We gratefully accept additional donations.
URL:https://xeniaconcerts.com/event/september-27-2025-xenia-concert-and-to-live-present-eliana-cuevas-jeremy-ledbetter/
LOCATION:Meridian Arts Centre\, 5040 Yonge St.\, Toronto\, Ontario\, M2N 6R8\, Canada
CATEGORIES:Past Events
ATTACH;FMTTYPE=image/jpeg:https://xeniaconcerts.com/wp-content/uploads/2025/06/ELIANA-AND-JEREMY_JUNE-2023_KH-1-scaled.jpg
END:VEVENT
END:VCALENDAR